BEGIN:VCALENDAR
VERSION:2.0
PRODID:-// - ECPv6.15.16//NONSGML v1.0//EN
CALSCALE:GREGORIAN
METHOD:PUBLISH
X-ORIGINAL-URL:https://www.neuropac.info
X-WR-CALDESC:Events for 
REFRESH-INTERVAL;VALUE=DURATION:PT1H
X-Robots-Tag:noindex
X-PUBLISHED-TTL:PT1H
BEGIN:VTIMEZONE
TZID:America/New_York
BEGIN:DAYLIGHT
TZOFFSETFROM:-0500
TZOFFSETTO:-0400
TZNAME:EDT
DTSTART:20220313T070000
END:DAYLIGHT
BEGIN:STANDARD
TZOFFSETFROM:-0400
TZOFFSETTO:-0500
TZNAME:EST
DTSTART:20221106T060000
END:STANDARD
BEGIN:DAYLIGHT
TZOFFSETFROM:-0500
TZOFFSETTO:-0400
TZNAME:EDT
DTSTART:20230312T070000
END:DAYLIGHT
BEGIN:STANDARD
TZOFFSETFROM:-0400
TZOFFSETTO:-0500
TZNAME:EST
DTSTART:20231105T060000
END:STANDARD
BEGIN:DAYLIGHT
TZOFFSETFROM:-0500
TZOFFSETTO:-0400
TZNAME:EDT
DTSTART:20240310T070000
END:DAYLIGHT
BEGIN:STANDARD
TZOFFSETFROM:-0400
TZOFFSETTO:-0500
TZNAME:EST
DTSTART:20241103T060000
END:STANDARD
END:VTIMEZONE
BEGIN:VTIMEZONE
TZID:Europe/Berlin
BEGIN:DAYLIGHT
TZOFFSETFROM:+0100
TZOFFSETTO:+0200
TZNAME:CEST
DTSTART:20220327T010000
END:DAYLIGHT
BEGIN:STANDARD
TZOFFSETFROM:+0200
TZOFFSETTO:+0100
TZNAME:CET
DTSTART:20221030T010000
END:STANDARD
BEGIN:DAYLIGHT
TZOFFSETFROM:+0100
TZOFFSETTO:+0200
TZNAME:CEST
DTSTART:20230326T010000
END:DAYLIGHT
BEGIN:STANDARD
TZOFFSETFROM:+0200
TZOFFSETTO:+0100
TZNAME:CET
DTSTART:20231029T010000
END:STANDARD
BEGIN:DAYLIGHT
TZOFFSETFROM:+0100
TZOFFSETTO:+0200
TZNAME:CEST
DTSTART:20240331T010000
END:DAYLIGHT
BEGIN:STANDARD
TZOFFSETFROM:+0200
TZOFFSETTO:+0100
TZNAME:CET
DTSTART:20241027T010000
END:STANDARD
END:VTIMEZONE
BEGIN:VEVENT
DTSTART;VALUE=DATE:20230905
DTEND;VALUE=DATE:20230908
DTSTAMP:20260423T132138
CREATED:20230831T103530Z
LAST-MODIFIED:20230831T103530Z
UID:10000245-1693872000-1694131199@www.neuropac.info
SUMMARY:Frontiers of Neuromorphic Computing
DESCRIPTION:The recent explosion of deep learning applications imposes an urgent need for new energy-efficient alternative neuromorphic hardware concepts running at high speeds and relying on a high degree of parallelism. In this workshop\, we will explore this rapidly developing area of (classical) neuromorphic computing over a range of scalable platforms\, both on a theoretical and experimental level. These platforms include systems in the domains of optics\, integrated photonics\, spin systems\, semi- and superconducting systems\, soft matter\, and others. In addition\, new physical learning approaches will be discussed. \nThe in-person workshop will start on 5 September at 9 am and end on 7 September at approximately 5:30 pm. There will be invited talks\, contributed talks\, a poster session and a panel discussion. On Wednesday\, we will organise a conference dinner which is included in the registration fee. \n 
URL:https://www.neuropac.info/event/frontiers-of-neuromorphic-computing/
LOCATION:Max Planck Institute for the Science of Light\, Staudtstr. 2\, Erlangen\, 91058\, Germany
CATEGORIES:Workshop
END:VEVENT
BEGIN:VEVENT
DTSTART;VALUE=DATE:20230912
DTEND;VALUE=DATE:20230914
DTSTAMP:20260423T132138
CREATED:20230828T173658Z
LAST-MODIFIED:20230828T173658Z
UID:10000243-1694476800-1694649599@www.neuropac.info
SUMMARY:HBP Concluding Event - Pioneering digital brain research
DESCRIPTION:From September 12 – 13\, 2023\, the Human Brain Project will celebrate its successful conclusion with a public scientific symposium at Forschungszentrum Jülich. In addition to the international project partners\, representatives from politics and the media are cordially invited to attend. \nIn short presentations\, researchers from the Human Brain Project will highlight the project’s achievements. The symposium will be accompanied by scientific exhibits\, an impressive picture gallery and hands on trainings. In guided tours guests can explore the laboratories and facilities of Forschungszentrum Jülich and get insights into the practical work behind the Human Brain Project.
URL:https://www.neuropac.info/event/hbp-concluding-event-pioneering-digital-brain-research/
LOCATION:Forschungszentrum Jülich\, Wilhelm-Johnen-Straße\, Jülich\, 52428\, Germany
CATEGORIES:Workshop
END:VEVENT
BEGIN:VEVENT
DTSTART;VALUE=DATE:20230926
DTEND;VALUE=DATE:20230930
DTSTAMP:20260423T132138
CREATED:20230828T171827Z
LAST-MODIFIED:20230828T172105Z
UID:10000240-1695686400-1696031999@www.neuropac.info
SUMMARY:Bernstein Conference 2023
DESCRIPTION:Each year the Bernstein Network invites the international computational neuroscience community to the annual Bernstein Conference for intensive scientific exchange. It has established itself as one of the most renown conferences worldwide in this field\, attracting students\, postdocs and PIs from around the world to meet and discuss new scientific discoveries. \nAlongside the conference\, there will also be multiple satellite workshops\, such as: “Biologically plausible learning in artificial neural networks”\, “How can machine learning be used to generate insights and theories in neuroscience?”\, and “Brain inspiration in neuromorphic computing”. For more information\, see https://bernstein-network.de/bernstein-conference/program/satellite-workshops/. \nFor more information\, see the website: https://bernstein-network.de/en/bernstein-conference/.
URL:https://www.neuropac.info/event/bernstein-conference-2023/
LOCATION:Humboldt Universität\, Luisenstraße 56\, Berlin\, 10115\, Germany
CATEGORIES:Conference
END:VEVENT
BEGIN:VEVENT
DTSTART;TZID=Europe/Berlin:20230926T180000
DTEND;TZID=Europe/Berlin:20230926T193000
DTSTAMP:20260423T132138
CREATED:20230925T101429Z
LAST-MODIFIED:20230925T101429Z
UID:10000246-1695751200-1695756600@www.neuropac.info
SUMMARY:Giulia D’Angelo: What’s catching your eye? The visual attention mechanism
DESCRIPTION:Abstract\nEvery agent\, whether animal or robotic\, needs to process its visual sensory input in an efficient way\, to allow understanding of\, and interaction with\, the environment. The process of filtering revelant information out of the continuous bombardment of complex sensory data is called selective attention. Visual attention is the result of the complex interplay between bottom-up and top-down mechanisms to perceptually organise and understand the scene. Giulia will describe how to approach visual attention using bio-inspired models emulating the human visual system to allow robots to interact with their surroundings. \nSpeaker’s bio\nGiulia D’Angelo is a postdoctoral researcher in neuroengineering in the EDPR laboratory at the Italian Institute of Technology. She obtained a B.Sc. in biomedical engineering and an M.Sc. in neuroengineering\, developing a neuromorphic visual system at the King’s College of London. She successfully defended her Ph.D. VIVA in 2022 at the university of Manchester\, proposing a biologically plausible model for event-driven saliency-based visual attention. She is currently working on bio-inspired visual algorithms exploiting neuromorphic platforms.
URL:https://www.neuropac.info/event/giulia-dangelo-whats-catching-your-eye-the-visual-attention-mechanism/
LOCATION:Online
CATEGORIES:Talk
END:VEVENT
END:VCALENDAR