BEGIN:VCALENDAR
VERSION:2.0
PRODID:-// - ECPv6.15.16//NONSGML v1.0//EN
CALSCALE:GREGORIAN
METHOD:PUBLISH
X-ORIGINAL-URL:https://www.neuropac.info
X-WR-CALDESC:Events for 
REFRESH-INTERVAL;VALUE=DURATION:PT1H
X-Robots-Tag:noindex
X-PUBLISHED-TTL:PT1H
BEGIN:VTIMEZONE
TZID:America/New_York
BEGIN:DAYLIGHT
TZOFFSETFROM:-0500
TZOFFSETTO:-0400
TZNAME:EDT
DTSTART:20220313T070000
END:DAYLIGHT
BEGIN:STANDARD
TZOFFSETFROM:-0400
TZOFFSETTO:-0500
TZNAME:EST
DTSTART:20221106T060000
END:STANDARD
BEGIN:DAYLIGHT
TZOFFSETFROM:-0500
TZOFFSETTO:-0400
TZNAME:EDT
DTSTART:20230312T070000
END:DAYLIGHT
BEGIN:STANDARD
TZOFFSETFROM:-0400
TZOFFSETTO:-0500
TZNAME:EST
DTSTART:20231105T060000
END:STANDARD
BEGIN:DAYLIGHT
TZOFFSETFROM:-0500
TZOFFSETTO:-0400
TZNAME:EDT
DTSTART:20240310T070000
END:DAYLIGHT
BEGIN:STANDARD
TZOFFSETFROM:-0400
TZOFFSETTO:-0500
TZNAME:EST
DTSTART:20241103T060000
END:STANDARD
END:VTIMEZONE
BEGIN:VTIMEZONE
TZID:Europe/Berlin
BEGIN:DAYLIGHT
TZOFFSETFROM:+0100
TZOFFSETTO:+0200
TZNAME:CEST
DTSTART:20220327T010000
END:DAYLIGHT
BEGIN:STANDARD
TZOFFSETFROM:+0200
TZOFFSETTO:+0100
TZNAME:CET
DTSTART:20221030T010000
END:STANDARD
BEGIN:DAYLIGHT
TZOFFSETFROM:+0100
TZOFFSETTO:+0200
TZNAME:CEST
DTSTART:20230326T010000
END:DAYLIGHT
BEGIN:STANDARD
TZOFFSETFROM:+0200
TZOFFSETTO:+0100
TZNAME:CET
DTSTART:20231029T010000
END:STANDARD
BEGIN:DAYLIGHT
TZOFFSETFROM:+0100
TZOFFSETTO:+0200
TZNAME:CEST
DTSTART:20240331T010000
END:DAYLIGHT
BEGIN:STANDARD
TZOFFSETFROM:+0200
TZOFFSETTO:+0100
TZNAME:CET
DTSTART:20241027T010000
END:STANDARD
END:VTIMEZONE
BEGIN:VTIMEZONE
TZID:America/Los_Angeles
BEGIN:DAYLIGHT
TZOFFSETFROM:-0800
TZOFFSETTO:-0700
TZNAME:PDT
DTSTART:20220313T100000
END:DAYLIGHT
BEGIN:STANDARD
TZOFFSETFROM:-0700
TZOFFSETTO:-0800
TZNAME:PST
DTSTART:20221106T090000
END:STANDARD
BEGIN:DAYLIGHT
TZOFFSETFROM:-0800
TZOFFSETTO:-0700
TZNAME:PDT
DTSTART:20230312T100000
END:DAYLIGHT
BEGIN:STANDARD
TZOFFSETFROM:-0700
TZOFFSETTO:-0800
TZNAME:PST
DTSTART:20231105T090000
END:STANDARD
BEGIN:DAYLIGHT
TZOFFSETFROM:-0800
TZOFFSETTO:-0700
TZNAME:PDT
DTSTART:20240310T100000
END:DAYLIGHT
BEGIN:STANDARD
TZOFFSETFROM:-0700
TZOFFSETTO:-0800
TZNAME:PST
DTSTART:20241103T090000
END:STANDARD
END:VTIMEZONE
BEGIN:VEVENT
DTSTART;VALUE=DATE:20231107
DTEND;VALUE=DATE:20231109
DTSTAMP:20260425T074518
CREATED:20230828T171403Z
LAST-MODIFIED:20230828T171403Z
UID:10000239-1699315200-1699487999@www.neuropac.info
SUMMARY:SNUFA Workshop 2023
DESCRIPTION:SNUFA is an online workshop and community focused on research advances in the field of “Spiking Networks as Universal Function Approximators”. The annual SNUFA online workshop brings together researchers in spiking neural networks to present their work and discuss translating these findings into a better understanding of neural circuits and novel brain-inspired computing approaches. Topics of interest include artificial and biologically plausible learning algorithms and the dissection of trained spiking circuits toward understanding neural processing. \nThe workshops are organised by Dan Goodman and Friedemann Zenke. \nRegister or submit on the website: https://snufa.net/2023/
URL:https://www.neuropac.info/event/snufa-workshop-2023/
LOCATION:Online
CATEGORIES:Workshop
END:VEVENT
BEGIN:VEVENT
DTSTART;TZID=Europe/Berlin:20231116T180000
DTEND;TZID=Europe/Berlin:20231116T190000
DTSTAMP:20260425T074518
CREATED:20231103T152759Z
LAST-MODIFIED:20231103T152928Z
UID:10000264-1700157600-1700161200@www.neuropac.info
SUMMARY:Timoleon Moraitis @ ONM - Making Neuromorphic Computing Mainstream
DESCRIPTION:From the Open Neuromorphic website \nJoin us for a workshop with Timoleon Moraitis\, research group leader in neuromorphic computing\, at the interface of computational neuroscience with artificial intelligence.
URL:https://www.neuropac.info/event/timoleon-moraitis-onm-making-neuromorphic-computing-mainstream/
LOCATION:Online
CATEGORIES:Talk
END:VEVENT
BEGIN:VEVENT
DTSTART;TZID=America/Los_Angeles:20231128T080000
DTEND;TZID=America/Los_Angeles:20231128T090000
DTSTAMP:20260425T074518
CREATED:20231130T122249Z
LAST-MODIFIED:20231130T122249Z
UID:10000269-1701158400-1701162000@www.neuropac.info
SUMMARY:Jannik Lubeoinski @ INRC - Brian2Lava: connecting the Brian 2 simulator to neuromorphic hardware
DESCRIPTION:Abstract:\nNeuromorphic hardware allows for fast and energy-efficient simulation of spiking neural networks. However\, the usage of such devices is still a challenge\, as it requires detailed knowledge about the neuromorphic hardware as well as the used software interface\, e.g.\, the Lava framework for neuromorphic computing spearheaded by Intel. This stands in contrast to the relative ease of simulating spiking neural networks on conventional CPU or GPU architectures\, for which user-friendly simulation environments exist. The Brian 2 simulator\, for instance\, allows to readily define a spiking neural network with a set of equations\, handling all subsequent hardware interactions. \nTo link the best of both worlds\, we are developing Brain2Lava. Brian2Lava combines the intuitive user interface of Brian 2 with the functionality of Lava. By means of a so-called device for Brian 2\, Brian2Lava seamlessly generates and executes the desired simulations in Lava without the need for users to write additional code. At the current stage\, Brian2Lava supports most Brian 2 features when executing Lava on CPU\, and a selection of essential features for the execution on Intel’s Loihi 2 chip. We are constantly working to expand the number of features supported with the chip\, aiming to enable to flexibly execute simulations on different hardware platforms. \nIn summary\, by bridging the gap between user-friendly model definition and neuromorphic implementation\, Brian2Lava empowers engineers and neuroscientists alike to leverage the potential of neuromorphic hardware with greater ease and efficiency. \nBio: Jannik Luboeinski is currently a postdoctoral researcher at University of Göttingen. He received his B.Sc. and M.Sc. degrees in Physics from Technical University of Darmstadt and Goethe University Frankfurt\, respectively. From 2017 to 2021\, he did his Ph.D. with Christian Tetzlaff at University of Göttingen\, investigating the role of two-phase synaptic plasticity in recurrent spiking neural networks\, which resulted in the publication of several journal papers. In 2021\, Dr. Luboeinski continued to work in the group of Professor Tetzlaff (now Computational Synaptic Physiology Group) as a postdoctoral researcher. A major aim of his research is to identify properties that enable efficient memory processes in biological and artificial neural systems. His work currently focuses on neuromorphic computing and the development of simulation software for recurrent spiking neural networks. \nMeeting link to join is available to INRC members and affiliates on the INRC Forum Schedule (click here). \nIf you are not yet a member of the INRC\, please see the “Joining the INRC link” below. \nFor the recording and slides\, see the full INRC Forum 2023 Schedule (accessible only to INRC Affiliates and Engaged Members). \nIf you are interested in becoming a member\, here is the information about ”Joining the INRC.”
URL:https://www.neuropac.info/event/jannik-lubeoinski-inrc-brian2lava-connecting-the-brian-2-simulator-to-neuromorphic-hardware/
LOCATION:Online
CATEGORIES:Talk
END:VEVENT
END:VCALENDAR