BEGIN:VCALENDAR
VERSION:2.0
PRODID:-// - ECPv6.15.16//NONSGML v1.0//EN
CALSCALE:GREGORIAN
METHOD:PUBLISH
X-ORIGINAL-URL:https://www.neuropac.info
X-WR-CALDESC:Events for 
REFRESH-INTERVAL;VALUE=DURATION:PT1H
X-Robots-Tag:noindex
X-PUBLISHED-TTL:PT1H
BEGIN:VTIMEZONE
TZID:Europe/Berlin
BEGIN:DAYLIGHT
TZOFFSETFROM:+0100
TZOFFSETTO:+0200
TZNAME:CEST
DTSTART:20230326T010000
END:DAYLIGHT
BEGIN:STANDARD
TZOFFSETFROM:+0200
TZOFFSETTO:+0100
TZNAME:CET
DTSTART:20231029T010000
END:STANDARD
BEGIN:DAYLIGHT
TZOFFSETFROM:+0100
TZOFFSETTO:+0200
TZNAME:CEST
DTSTART:20240331T010000
END:DAYLIGHT
BEGIN:STANDARD
TZOFFSETFROM:+0200
TZOFFSETTO:+0100
TZNAME:CET
DTSTART:20241027T010000
END:STANDARD
BEGIN:DAYLIGHT
TZOFFSETFROM:+0100
TZOFFSETTO:+0200
TZNAME:CEST
DTSTART:20250330T010000
END:DAYLIGHT
BEGIN:STANDARD
TZOFFSETFROM:+0200
TZOFFSETTO:+0100
TZNAME:CET
DTSTART:20251026T010000
END:STANDARD
END:VTIMEZONE
BEGIN:VTIMEZONE
TZID:America/New_York
BEGIN:DAYLIGHT
TZOFFSETFROM:-0500
TZOFFSETTO:-0400
TZNAME:EDT
DTSTART:20230312T070000
END:DAYLIGHT
BEGIN:STANDARD
TZOFFSETFROM:-0400
TZOFFSETTO:-0500
TZNAME:EST
DTSTART:20231105T060000
END:STANDARD
BEGIN:DAYLIGHT
TZOFFSETFROM:-0500
TZOFFSETTO:-0400
TZNAME:EDT
DTSTART:20240310T070000
END:DAYLIGHT
BEGIN:STANDARD
TZOFFSETFROM:-0400
TZOFFSETTO:-0500
TZNAME:EST
DTSTART:20241103T060000
END:STANDARD
BEGIN:DAYLIGHT
TZOFFSETFROM:-0500
TZOFFSETTO:-0400
TZNAME:EDT
DTSTART:20250309T070000
END:DAYLIGHT
BEGIN:STANDARD
TZOFFSETFROM:-0400
TZOFFSETTO:-0500
TZNAME:EST
DTSTART:20251102T060000
END:STANDARD
END:VTIMEZONE
BEGIN:VEVENT
DTSTART;TZID=Europe/Berlin:20240418T230000
DTEND;TZID=Europe/Berlin:20240419T003000
DTSTAMP:20260425T102940
CREATED:20231103T153206Z
LAST-MODIFIED:20240428T080746Z
UID:10000267-1713481200-1713486600@www.neuropac.info
SUMMARY:Tobias Fischer @ ONM - Advances in Neuromorphic Visual Place Recognition
DESCRIPTION:From the Open Neuromorphic website. \nAbout the Speaker\nTobias conducts interdisciplinary research at the intersection of intelligent robotics\, computer vision\, and computational cognition. My main goal is to develop high-performing\, bio-inspired computer vision algorithms that simultaneously examine animals/humans and robots’ perceptional capabilities. He is a Lecturer (Assistant Professor) in Queensland University of Technology’s Centre for Robotics. He joined the Centre as an Associate Investigator and Research Fellow in January 2020. Previously\, he was a postdoctoral researcher in the Personal Robotics Lab at Imperial College London. He received a PhD from Imperial College in January 2019. His thesis was awarded the UK Best Thesis in Robotics Award 2018 and the Eryl Cadwaladr Davies Award for the best thesis in Imperial’s EEE Department in 2017-2018. He previously received an M.Sc. degree (distinction) in Artificial Intelligence from The University of Edinburgh in 2014 and a B.Sc. degree in Computer Engineering from Ilmenau University of Technology\, Germany\, in 2013. His works have attracted two best poster awards\, one best paper award\, and he was the senior author of the winning submission to the Facebook Mapillary Place Recognition Challenge 2020.
URL:https://www.neuropac.info/event/tobias-fischer-onm-advances-in-neuromorphic-visual-place-recognition/
LOCATION:Online
CATEGORIES:Talk
END:VEVENT
BEGIN:VEVENT
DTSTART;VALUE=DATE:20240422
DTEND;VALUE=DATE:20240426
DTSTAMP:20260425T102940
CREATED:20231103T143242Z
LAST-MODIFIED:20231103T143242Z
UID:10000251-1713744000-1714089599@www.neuropac.info
SUMMARY:IEEE AICAS 2024
DESCRIPTION:The 6th IEEE International Conference on\nArtificial Intelligence Circuits and Systems (IEEE AICAS 2024)\nKhalifa University\, Abu Dhabi\, UAE | April 22-25\, 2024\nPaper Submission | Registration \nArtificial Intelligence (AI) is driving a revolution in information technology as well as in many industries. New computing paradigms are required to support the emerging AI algorithms and applications\, running on a diversity of platforms\, from edge devices to cloud servers and from circuit level to system level. Addressing this challenge and opportunity\, the AICAS conference has been established as the premier conference of the IEEE Circuits and Systems Society to promote and facilitate state-of-the-art research\, innovation\, and development activities at the frontiers of artificial intelligence circuits and systems. It serves as an excellent platform allowing world scholars\, technology researchers\, and industry to exchange experiences\, demonstrate their studies\, and further advance AI circuits and systems technologies.
URL:https://www.neuropac.info/event/ieee-aicas-2024/
LOCATION:Khalifa University\, Abu Dhabi\, United Arab Emirates
CATEGORIES:Conference
END:VEVENT
BEGIN:VEVENT
DTSTART;VALUE=DATE:20240423
DTEND;VALUE=DATE:20240427
DTSTAMP:20260425T102940
CREATED:20231103T142949Z
LAST-MODIFIED:20231103T142949Z
UID:10000250-1713830400-1714175999@www.neuropac.info
SUMMARY:NICE 2024
DESCRIPTION:Neuro Inspired Computational Elements Conference (NICE) 2024\n\n\n\n\n\nNICE’2024 will be held in La Jolla\, California\, USA on April 23-26\, 2024. \n\nTuesday\, 23 April 2024 – Thursday\, 25 April 2024 for the main workshop\nFriday\, 26 April 2024 for the parallel hands-on tutorials\n\nAt this conference\, we will: \n\nPresent applications that are looking for solutions that are beyond the capabilities of current computational systems\,\nHighlight technical approaches that are at the early to middle stages of development for new computational systems\,\nIdentify pathways and resources to accelerate the development of these new systems.\n\nAttendance: 200-250 from neuroscience\, systems\, microelectronics\, applications\, potential funding agencies. \n\n\n\n\n\nVenue in La Jolla\nThe venue is Scripps Seaside Forum right on the beach for three days of inspiring keynotes and lectures\, interactive posters\, and live demonstrations\, with an extra day of illuminating tutorials at the nearby UC San Diego Institute for Neural Computation. \nSee the NICE 2024 venue information page for a map and a list of hotels offering special conditions for NICE attendants. \n\n\n\n\n\nA lot of NICE talks are available in the NICE YouTube channel.
URL:https://www.neuropac.info/event/nice-2024/
LOCATION:La Jolla\, California\, La Jolla\, CA\, United States
CATEGORIES:Conference,Workshop
END:VEVENT
BEGIN:VEVENT
DTSTART;VALUE=DATE:20240428
DTEND;VALUE=DATE:20240513
DTSTAMP:20260425T102940
CREATED:20240105T081216Z
LAST-MODIFIED:20240105T081343Z
UID:10000276-1714262400-1715558399@www.neuropac.info
SUMMARY:CapoCaccia 2024: Workshop toward Neuromorphic Intelligence
DESCRIPTION:Theme for 2024: “Do robots dream of evolving sheep?”\nDuring the last couple of years we have experienced groundbreaking advances in AI. Transformer architectures are revolutionizing the way we deal with today’s vast amount of available data\, and are having a massive impact in our society. Despite these advancements\, AI systems still fall short of replicating the most basic yet highly sophisticated capabilities inherent in biological organisms: the effortless ability to sense\, navigate and interact efficiently with our environment. \nIn this workshop we will center our discussions on exploring which bio-inspired principles could be incorporated into neuromorphic “brains” to successfully guide future robots in noisy and unpredictable environments. Towards the end of the workshop we will revolve around one of the most fundamental distinctions between biological organisms and current AI systems: that biological intelligence emerges in the absence of any external designer. Biological brains evolved sophisticated algorithms to build themselves into powerful computational devices. Will this be the key to the future of robotics?. \nThe mission of the CapoCaccia Workshops for Neuromorphic Intelligence is to understand the principles of biological intelligence and apply this knowledge in technologies\, for the good of all mankind.\nThe workshop features open and highly interactive discussion sessions in the morning; hands-on projects\, tutorials\, and hardware and software jamming sessions during the day; and free-form discussions in the evenings. \nThe workshop is open to everyone\, but since resources are limited\, we can accept only a limited number of registrations. Due to the limited number of hotel rooms\, Ph.D. students are expected to pair up and share rooms. All participants are encouraged to stay for the full two week period\, but can stay for less if necessary. \nParticipants are expected to use their own sources of funding to pay their travel\, accommodation\, and registration expenses. \n\n\n\nThe registration will be open from Jan 08 until Jan 31\, 2024.
URL:https://www.neuropac.info/event/capocaccia-2024-workshop-toward-neuromorphic-intelligence/
LOCATION:Alghero\, Sardinia\, Italy\, Alghero\, Sardinia\, Italy
CATEGORIES:Workshop
END:VEVENT
BEGIN:VEVENT
DTSTART;VALUE=DATE:20240430
DTEND;VALUE=DATE:20240501
DTSTAMP:20260425T102940
CREATED:20240219T093217Z
LAST-MODIFIED:20240219T093217Z
UID:10000281-1714435200-1714521599@www.neuropac.info
SUMMARY:ICONS 2024 Paper Deadline
DESCRIPTION:CALL FOR PAPERS: International Conference on Neuromorphic Systems (ICONS) 2024\nImportant Dates:\nApril 30\, 2024: Submissions due \nMay 15\, 2024: Reviews due \nJune 6\, 2024: Decision notification \nJuly 30-August 2\, 2024: Conference \nWith the looming end of the “Moore’s Law” era\, there is an emerging challenge to “create a new type of computer that can proactively interpret and learn from data\, solve unfamiliar problems using what it has learned\, and operate with the energy efficiency of the human brain.” \nNeuromorphic computing will play a major role in this challenge and has the potential to transform the way we use computers through new materials\, new brain-inspired chips\, greater understanding of neuroscience\, and breakthroughs in machine understanding/intelligence. Neuromorphic computing systems have the potential to mimic the functionality of neural systems in the brain\, which we believe will lead to more powerful and efficient computing paradigms. The goal of this conference is to bring together leading researchers in neuromorphic computing to present new research\, develop new collaborations\, and provide a forum to publish work in this area. \nRESEARCH PAPERS ARE REQUESTED FOR TOPICS ON NEUROMORPHIC COMPUTING\, SPECIFICALLY IN FOUR FOCUS AREAS:\n\nSystems\, architectures\, and circuits\n\nNetwork\, neuron\, and synapse models\nNon-von Neumann computing architectures and models\nEmerging devices and hardware implementations\nEvent or spike-based systems\nNeuromorphic circuits\nNovel brain-inspired system architectures\n\n\nMachine intelligence algorithms for programming or training neuromorphic devices\n\nSupervised\, unsupervised and self-supervised learning methods\nBiologically-inspired algorithms\nAdaptations to existing algorithms for use on or with neuromorphic systems\n\n\nApplications for and use-cases of neuromorphic systems\n\nApplications where neuromorphic systems have the potential to outperform state-of-the-art techniques\nSuggestions for benchmark tasks for neuromorphic computing\nNeuromorphic datasets\n\n\nSupporting software and systems for neuromorphic systems\n\nEfficient simulation techniques for hardware and large-scale networks\nCompilers and programming frameworks\nVisualization tools\n\n\n\nNote: Submissions outside the scope of these areas\, including materials science and neuroscience\, will also be considered (especially for lightning talks and posters)\, although they are not the focus of this conference. \nWE ARE ACCEPTING SUBMISSIONS IN THE FOLLOWING FORMATS:\n\nFull papers (6-8 pages)\, which will be considered for full (20 minute) presentations. Full papers should present original research and will be included in the conference proceedings. The page limit includes references\, appendix and any other material that would accompany the paper.\nShort papers (3-4 pages)\, which will be considered for full presentations and/or lightning talks. Short papers can be position papers or present preliminary results and will be included in the conference proceedings. The page limit includes references\, appendix and any other material that would accompany the paper.\nExtended abstracts (1 page) for lightning talks and/or poster presentations. Extended abstracts will not be included in the conference proceedings.\nTutorial submissions (2-3 pages) for 1-2 hour tutorial sessions. Tutorials should include a hands-on component for tutorial attendees to work on or interact with neuromorphic software or hardware. Tutorials should be led by no more than three facilitators. Unlike paper and abstract submissions\, tutorial submissions should be submitted via email to Melika Payvand and Maryam Parsa at melika [at] ini.uzh.ch and mparsa [at] gmu.edu.\nSpecial session submissions (2-3 pages) for 1-2 hour special sessions. Special sessions should include invited presentations on a specific topic. Special session submissions will not be included in the conference proceedings. Unlike paper and abstract submissions\, special session submissions should be submitted via email to Melika Payvand and Maryam Parsa at melika [at] ini.uzh.ch and mparsa [at] gmu.edu\n\nProgram Co-Chairs:\nMelika Payvand\, Institute of Neuroinformatics\, University of Zurich and ETH Zurich \nMaryam Parsa\, George Mason University \nSubmission Website: Coming soon
URL:https://www.neuropac.info/event/icons-2024-paper-deadline/
LOCATION:Online
CATEGORIES:Conference,Deadline
END:VEVENT
END:VCALENDAR