BEGIN:VCALENDAR
VERSION:2.0
PRODID:-// - ECPv6.15.16//NONSGML v1.0//EN
CALSCALE:GREGORIAN
METHOD:PUBLISH
X-ORIGINAL-URL:https://www.neuropac.info
X-WR-CALDESC:Events for 
REFRESH-INTERVAL;VALUE=DURATION:PT1H
X-Robots-Tag:noindex
X-PUBLISHED-TTL:PT1H
BEGIN:VTIMEZONE
TZID:America/New_York
BEGIN:DAYLIGHT
TZOFFSETFROM:-0500
TZOFFSETTO:-0400
TZNAME:EDT
DTSTART:20230312T070000
END:DAYLIGHT
BEGIN:STANDARD
TZOFFSETFROM:-0400
TZOFFSETTO:-0500
TZNAME:EST
DTSTART:20231105T060000
END:STANDARD
BEGIN:DAYLIGHT
TZOFFSETFROM:-0500
TZOFFSETTO:-0400
TZNAME:EDT
DTSTART:20240310T070000
END:DAYLIGHT
BEGIN:STANDARD
TZOFFSETFROM:-0400
TZOFFSETTO:-0500
TZNAME:EST
DTSTART:20241103T060000
END:STANDARD
BEGIN:DAYLIGHT
TZOFFSETFROM:-0500
TZOFFSETTO:-0400
TZNAME:EDT
DTSTART:20250309T070000
END:DAYLIGHT
BEGIN:STANDARD
TZOFFSETFROM:-0400
TZOFFSETTO:-0500
TZNAME:EST
DTSTART:20251102T060000
END:STANDARD
END:VTIMEZONE
BEGIN:VEVENT
DTSTART;VALUE=DATE:20240428
DTEND;VALUE=DATE:20240513
DTSTAMP:20260422T182856
CREATED:20240105T081216Z
LAST-MODIFIED:20240105T081343Z
UID:10000276-1714262400-1715558399@www.neuropac.info
SUMMARY:CapoCaccia 2024: Workshop toward Neuromorphic Intelligence
DESCRIPTION:Theme for 2024: “Do robots dream of evolving sheep?”\nDuring the last couple of years we have experienced groundbreaking advances in AI. Transformer architectures are revolutionizing the way we deal with today’s vast amount of available data\, and are having a massive impact in our society. Despite these advancements\, AI systems still fall short of replicating the most basic yet highly sophisticated capabilities inherent in biological organisms: the effortless ability to sense\, navigate and interact efficiently with our environment. \nIn this workshop we will center our discussions on exploring which bio-inspired principles could be incorporated into neuromorphic “brains” to successfully guide future robots in noisy and unpredictable environments. Towards the end of the workshop we will revolve around one of the most fundamental distinctions between biological organisms and current AI systems: that biological intelligence emerges in the absence of any external designer. Biological brains evolved sophisticated algorithms to build themselves into powerful computational devices. Will this be the key to the future of robotics?. \nThe mission of the CapoCaccia Workshops for Neuromorphic Intelligence is to understand the principles of biological intelligence and apply this knowledge in technologies\, for the good of all mankind.\nThe workshop features open and highly interactive discussion sessions in the morning; hands-on projects\, tutorials\, and hardware and software jamming sessions during the day; and free-form discussions in the evenings. \nThe workshop is open to everyone\, but since resources are limited\, we can accept only a limited number of registrations. Due to the limited number of hotel rooms\, Ph.D. students are expected to pair up and share rooms. All participants are encouraged to stay for the full two week period\, but can stay for less if necessary. \nParticipants are expected to use their own sources of funding to pay their travel\, accommodation\, and registration expenses. \n\n\n\nThe registration will be open from Jan 08 until Jan 31\, 2024.
URL:https://www.neuropac.info/event/capocaccia-2024-workshop-toward-neuromorphic-intelligence/
LOCATION:Alghero\, Sardinia\, Italy\, Alghero\, Sardinia\, Italy
CATEGORIES:Workshop
END:VEVENT
BEGIN:VEVENT
DTSTART;TZID=America/New_York:20240504T110000
DTEND;TZID=America/New_York:20240504T121500
DTSTAMP:20260422T182856
CREATED:20240428T081014Z
LAST-MODIFIED:20240428T081014Z
UID:10000285-1714820400-1714824900@www.neuropac.info
SUMMARY:Sangyeob Kim @ ONM - C-DNN and C-Transformer: Mixing ANNs and SNNs for the Best of Both Worlds
DESCRIPTION:From the Open Neuromorphic website. \nSangyeob and his team have developed a C-DNN processor that effectively processes object recognition workloads\, achieving 51.3% higher energy efficiency compared to the previous state-of-the-art processor. Subsequently\, they have applied C-DNN not only to image classification but also to other applications\, and have developed the C-Transformer\, which applies this technique to a Large Language Model (LLM). As a result\, they demonstrate that the energy consumed in LLM can be reduced by 30% to 72% using the C-DNN technique\, compared to the previous state-of-the-art processor. In this talk\, we will introduce the processor developed for C-DNN and C-Transformer\, and discuss how neuromorphic computing can be used in actual applications in the future. \n\n\nAbout the Speaker\nSangyeob Kim (Student Member\, IEEE) received the B.S.\, M.S. and Ph.D. degrees from the School of Electrical Engineering\, Korea Advanced Institute of Science and Technology (KAIST)\, Daejeon\, South Korea\, in 2018\, 2020 and 2023\, respectively. He is currently a Post-Doctoral Associate with the KAIST. His current research interests include energy-efficient system-on-chip design\, especially focused on deep neural network accelerators\, neuromorphic hardware\, and computing-in-memory accelerators.
URL:https://www.neuropac.info/event/sangyeob-kim-onm-c-dnn-and-c-transformer-mixing-anns-and-snns-for-the-best-of-both-worlds/
LOCATION:Online
CATEGORIES:Talk,Workshop
END:VEVENT
BEGIN:VEVENT
DTSTART;VALUE=DATE:20240506
DTEND;VALUE=DATE:20240508
DTSTAMP:20260422T182856
CREATED:20240308T112507Z
LAST-MODIFIED:20240308T112507Z
UID:10000283-1714953600-1715126399@www.neuropac.info
SUMMARY:Morpheus 2024: ESA workshop on Edge AI and Neuromorphic hardware accelerators
DESCRIPTION:From the emerging needs identified by ESA and Satellites Primes\, the workshop as a main goal\, will focus on establishing the contour of a future AI accelerator and define the associated roadmap. By gathering Satellites Primes\, IP providers\, Researchers and other key players\, the workshop also aims at leveraging interest and creating synergies in Europe and beyond.
URL:https://www.neuropac.info/event/morpheus-2024-esa-workshop-on-edge-ai-and-neuromorphic-hardware-accelerators/
LOCATION:ESTEC\, Keplerlaan 1\, Noordwijk\, 2201 AZ\, Netherlands
CATEGORIES:Workshop
END:VEVENT
BEGIN:VEVENT
DTSTART;VALUE=DATE:20240507
DTEND;VALUE=DATE:20240510
DTSTAMP:20260422T182856
CREATED:20231103T151712Z
LAST-MODIFIED:20231103T151712Z
UID:10000263-1715040000-1715299199@www.neuropac.info
SUMMARY:ACM CF 2024
DESCRIPTION:21th ACM International Conference on Computing Frontiers (CF’ 24)\nThe 21st ACM International Conference on Computing Frontiers (CF’24) will take place May 7th – 9th\, 2024 in Ischia\, Naples\, Italy. Participation is in-person only. \nComputing Frontiers (CF) is an eclectic\, interdisciplinary\, collaborative community of researchers investigating emerging technologies in the broad field of computing: our common goal is to drive the scientific breakthroughs that support society. \nCF’s broad scope is driven by recent technological advances in wide-ranging fields impacting computing\, such as novel computing models and paradigms\, advancements in hardware\, network and systems architecture\, cloud computing\, novel device physics and materials\, new application domains of artificial intelligence\, big data analytics\, wearables\, and IoT. The boundaries between the state-of-the-art and revolutionary innovation constitute the advancing frontiers of science\, engineering\, and information technology — and are the CF community’s focus. CF provides a venue to share\, discuss\, and advance broad\, forward-thinking\, early research on the future of computing and welcomes work on a wide spectrum of computer systems\, from embedded and hand-held/wearable devices to supercomputers and data centers.
URL:https://www.neuropac.info/event/acm-cf-2024/
LOCATION:Ischia\, Naples\, Italy\, Naples\, Italy
CATEGORIES:Conference
END:VEVENT
BEGIN:VEVENT
DTSTART;VALUE=DATE:20240507
DTEND;VALUE=DATE:20240512
DTSTAMP:20260422T182856
CREATED:20231103T144429Z
LAST-MODIFIED:20231103T144429Z
UID:10000255-1715040000-1715471999@www.neuropac.info
SUMMARY:ICLR 2024
DESCRIPTION:12th International Conference on Learning Representations (ICLR) 2024\n\n\n\n\nThe International Conference on Learning Representations (ICLR) is the premier gathering of professionals dedicated to the advancement of the branch of artificial intelligence called representation learning\, but generally referred to as deep learning. \nICLR is globally renowned for presenting and publishing cutting-edge research on all aspects of deep learning used in the fields of artificial intelligence\, statistics and data science\, as well as important application areas such as machine vision\, computational biology\, speech recognition\, text understanding\, gaming\, and robotics. \nParticipants at ICLR span a wide range of backgrounds\, from academic and industrial researchers\, to entrepreneurs and engineers\, to graduate students and postdocs. \nA non-exhaustive list of relevant topics explored at the conference include: \n\nunsupervised\, semi-supervised\, and supervised representation learning\nrepresentation learning for planning and reinforcement learning\nrepresentation learning for computer vision and natural language processing\nmetric learning and kernel learning\nsparse coding and dimensionality expansion\nhierarchical models\noptimization for representation learning\nlearning representations of outputs or states\noptimal transport\ntheoretical issues in deep learning\nsocietal considerations of representation learning including fairness\, safety\, privacy\, and interpretability\, and explainability\nvisualization or interpretation of learned representations\nimplementation issues\, parallelization\, software platforms\, hardware\nclimate\, sustainability\napplications in audio\, speech\, robotics\, neuroscience\,  biology\, or any other field
URL:https://www.neuropac.info/event/iclr-2024/
LOCATION:Vienna\, Vienna\, Austria
CATEGORIES:Conference
END:VEVENT
BEGIN:VEVENT
DTSTART;VALUE=DATE:20240515
DTEND;VALUE=DATE:20240518
DTSTAMP:20260422T182856
CREATED:20240308T112242Z
LAST-MODIFIED:20240308T112242Z
UID:10000282-1715731200-1715990399@www.neuropac.info
SUMMARY:Neuromorphic Computing Meets Quantum Mechanics
DESCRIPTION:Human brains possess computational capacity far superior to any digital computer. This functionality is endowed by synapse\, a small 30 nm junction that allows two nerve cells to communicate. This communication (synaptic action) occurs via changes in charge concentrations that modify the transmission of an electrical signal across the synapse. Replicating this synaptic architecture and communication artificially would be a critical step toward building computers that emulate brain-like performance minimizing energetic costs\, or neuromorphic computing. Various materials and physical phenomena based on classical physics have been explored to utilize intrinsic materials physics to enable energy-efficient computation by replicating the functionalities of biological neurons and synapses. Merging insights from brain-inspired hardware and software with quantum phenomena and quantum technologies\, could unlock a new era of information processing. Quantum technologies based on unitary dynamics are inherently dissipationless and have the potential to further reduce energy costs\, in addition to the reductions offered by neuromorphic computing. \nThe conference “Neuromorphic Computing Meets Quantum Mechanics” is poised to facilitate the convergence of researchers from three cutting-edge domains: neuromorphic computing\, quantum technologies\, and artificial intelligence. This unique platform aims to inspire collaborative interaction among experts in neuromorphic computing\, encompassing both hardware and software\, specialists in quantum materials and quantum optics theory and experiments\, and experts in deep learning and artificial general intelligence (AGI). By bringing these fields together\, the conference seeks to facilitate discussion and collaboration towards the development of quantum-enhanced neuromorphic hardware capable of surpassing classical von Neumann architectures for AGI-oriented computing. This visionary conference will host talks and brainstorming sessions centered on the transformative potential of utilizing quantum phenomena and materials to reshape the landscape of neuromorphic computing for AGI. The conference aims to inspire discussions on novel approaches\, paving the way for new technologies at linking AGI and quantum computing. Join us in charting a path towards a future where quantum mechanics converges with neuromorphic computing\, redefining the possibilities of AGI. \n 
URL:https://www.neuropac.info/event/neuromorphic-computing-meets-quantum-mechanics/
LOCATION:University of Georgia\, Athens\, GA\, 30602\, United States
CATEGORIES:Conference
END:VEVENT
BEGIN:VEVENT
DTSTART;VALUE=DATE:20240519
DTEND;VALUE=DATE:20240523
DTSTAMP:20260422T182856
CREATED:20231103T143503Z
LAST-MODIFIED:20231103T143503Z
UID:10000252-1716076800-1716422399@www.neuropac.info
SUMMARY:IEEE ISCAS 2024
DESCRIPTION:IEEE International Symposium on Circuits and Systems (ISCAS)\nMay 19-22 2024\, Singapore\nResorts World Convention Centre\nSubmission Site \n\nThe IEEE International Symposium on Circuits and Systems (ISCAS) is the flagship conference of the IEEE Circuits and Systems (CAS) Society and the world’s premier forum for researchers in the active fields of theory\, design and implementation of circuits and systems. \nISCAS 2024 is inspired by the theme “circuits and systems for sustainable development”\, which is perfectly aligned with the host city’s goal. \n\nTechnical lecture and poster sessions.\nSpecial sessions.\nTutorials and workshops.\nPublication of conference proceedings and journal special issues.\n\nThe symposium highlights a wide range of innovatition themes including: Artificial Intelligence and Deep Learning\, Smart Systems for Automotive\, Brain: Innovation Neurotechnologies\, Intelligent Cyber Security Systems\, Food Security and Climate Change\, Ultra Low Power Circuits and Systems. \n\n\nISCAS 2024’s special initiatives include: Emerging Technologies Workshops on Information Security\, Climate Change\, and GeronCAS; Cross-Society Special Sessions which is co-organized by CASS and other IEEE societies/councils\, on recent attractive themes for cross-disciplinary collaboration; and Special Sections in IEEE Transactions (invited publication in TCAS-I\, TCAS-II\, TBioCAS). (Details on Journal Special Issue) \nThe CAS Society will celebrate the 75th anniversary in ISCAS 2024.
URL:https://www.neuropac.info/event/ieee-iscas-2024/
LOCATION:Singapore Resorts World Convention Centre\, Singapore\, Singapore
CATEGORIES:Conference
END:VEVENT
END:VCALENDAR