BEGIN:VCALENDAR
VERSION:2.0
PRODID:-// - ECPv6.15.16//NONSGML v1.0//EN
CALSCALE:GREGORIAN
METHOD:PUBLISH
X-ORIGINAL-URL:https://www.neuropac.info
X-WR-CALDESC:Events for 
REFRESH-INTERVAL;VALUE=DURATION:PT1H
X-Robots-Tag:noindex
X-PUBLISHED-TTL:PT1H
BEGIN:VTIMEZONE
TZID:America/New_York
BEGIN:DAYLIGHT
TZOFFSETFROM:-0500
TZOFFSETTO:-0400
TZNAME:EDT
DTSTART:20230312T070000
END:DAYLIGHT
BEGIN:STANDARD
TZOFFSETFROM:-0400
TZOFFSETTO:-0500
TZNAME:EST
DTSTART:20231105T060000
END:STANDARD
BEGIN:DAYLIGHT
TZOFFSETFROM:-0500
TZOFFSETTO:-0400
TZNAME:EDT
DTSTART:20240310T070000
END:DAYLIGHT
BEGIN:STANDARD
TZOFFSETFROM:-0400
TZOFFSETTO:-0500
TZNAME:EST
DTSTART:20241103T060000
END:STANDARD
BEGIN:DAYLIGHT
TZOFFSETFROM:-0500
TZOFFSETTO:-0400
TZNAME:EDT
DTSTART:20250309T070000
END:DAYLIGHT
BEGIN:STANDARD
TZOFFSETFROM:-0400
TZOFFSETTO:-0500
TZNAME:EST
DTSTART:20251102T060000
END:STANDARD
END:VTIMEZONE
BEGIN:VTIMEZONE
TZID:Europe/Rome
BEGIN:DAYLIGHT
TZOFFSETFROM:+0100
TZOFFSETTO:+0200
TZNAME:CEST
DTSTART:20230326T010000
END:DAYLIGHT
BEGIN:STANDARD
TZOFFSETFROM:+0200
TZOFFSETTO:+0100
TZNAME:CET
DTSTART:20231029T010000
END:STANDARD
BEGIN:DAYLIGHT
TZOFFSETFROM:+0100
TZOFFSETTO:+0200
TZNAME:CEST
DTSTART:20240331T010000
END:DAYLIGHT
BEGIN:STANDARD
TZOFFSETFROM:+0200
TZOFFSETTO:+0100
TZNAME:CET
DTSTART:20241027T010000
END:STANDARD
BEGIN:DAYLIGHT
TZOFFSETFROM:+0100
TZOFFSETTO:+0200
TZNAME:CEST
DTSTART:20250330T010000
END:DAYLIGHT
BEGIN:STANDARD
TZOFFSETFROM:+0200
TZOFFSETTO:+0100
TZNAME:CET
DTSTART:20251026T010000
END:STANDARD
END:VTIMEZONE
BEGIN:VEVENT
DTSTART;VALUE=DATE:20240909
DTEND;VALUE=DATE:20240913
DTSTAMP:20260421T221422
CREATED:20240814T105810Z
LAST-MODIFIED:20240814T105810Z
UID:10000295-1725840000-1726185599@www.neuropac.info
SUMMARY:​2024 Energy-Efficient Computing for Science Workshop
DESCRIPTION:The 2024 Workshop on Basic Research Needs for Energy-Efficient Computing for Science will identify priority research directions in energy-efficient computing for science.  This workshop aims to inform the community and identify grand challenges for capability and energy efficiency for later in the next decade\, and to outline a set of priority research directions and priority testbed opportunities to maximize our ability to achieve those targets. \nThe workshop will begin at 8:00am on September 9 and end by 12:00pm on September 12. \nThe registration fee is $375 and includes continental breakfast\, lunch\, and coffee breaks on September 9\, 10\, and 11 and continental breakfast and morning coffee break on September 12. If you are a DOE employee or local federal employee\, you will not pay the registration fee but will be able to purchase breakfast or lunch on site or during registration. In person registration is required for workshop participants. \nThe plenary sessions will be streamed via Zoom for those wanting to view them.  Virtual registration is required to stream the plenary sessions and can be completed by clicking the “Virtual Registration” button above.
URL:https://www.neuropac.info/event/2024-energy-efficient-computing-for-science-workshop/
LOCATION:Bethesda\, MD\, Bethesda\, MD\, United States
CATEGORIES:Workshop
END:VEVENT
BEGIN:VEVENT
DTSTART;VALUE=DATE:20240911
DTEND;VALUE=DATE:20240914
DTSTAMP:20260421T221422
CREATED:20240814T105849Z
LAST-MODIFIED:20240814T105849Z
UID:10000296-1726012800-1726271999@www.neuropac.info
SUMMARY:​2024 Analog Computing for Science Workshop
DESCRIPTION:The 2024 Workshop on Basic Research Needs for Analog Computing for Science will identify priority research directions in analog computing for science.  This workshop aims to inform the community and identify grand challenges in analog computing for later in the next decade\, and to outline a set of priority research directions to maximize our ability to achieve those challenges. \nThe workshop will begin at 8:00am on September 11 and end by 12:00pm on September 13. \nThe registration fee is $250 and includes continental breakfast\, lunch\, and coffee breaks on September 11 and 12 and continental breakfast and morning coffee break on September 13. If you are a DOE employee or local federal employee\, you will not pay the registration fee but will be able to purchase breakfast or lunch on site or during registration. In person registration is required for workshop participants. \nThe plenary sessions will be streamed via Zoom for those wanting to view them.  Virtual registration is required to stream the plenary sessions and can be completed by clicking the “Virtual Registration” button above.
URL:https://www.neuropac.info/event/2024-analog-computing-for-science-workshop/
LOCATION:Bethesda\, MD\, Bethesda\, MD\, United States
CATEGORIES:Workshop
END:VEVENT
BEGIN:VEVENT
DTSTART;VALUE=DATE:20240912
DTEND;VALUE=DATE:20240914
DTSTAMP:20260421T221422
CREATED:20240809T234449Z
LAST-MODIFIED:20240809T234449Z
UID:10000290-1726099200-1726271999@www.neuropac.info
SUMMARY:2024 Neuromorphic Computing for Science Workshop
DESCRIPTION:The 2024 Workshop on Basic Research Needs for Neuromorphic Computing will inform and draft a set of grand challenges for advancing the field of neuromorphic computing and developing proof of principle neuromorphic circuits applicable for High Performance Computer (HPC) acceleration for scientific discovery\, and brainstorm ideas needed for a successful\, robust\, and world leading basic research program. The pre-workshop report is available as a PDF file. \n\n\n\n\n\n\n\n\n\n\n\n\n\n\n\n\n\n\n\n\n\nSponsored by the U.S. Department of Energy\, Office of Advanced Scientific Computing Research (ASCR).
URL:https://www.neuropac.info/event/2024-neuromorphic-computing-for-science-workshop/
LOCATION:Bethesda\, MD\, Bethesda\, MD\, United States
CATEGORIES:Workshop
END:VEVENT
BEGIN:VEVENT
DTSTART;VALUE=DATE:20240917
DTEND;VALUE=DATE:20240921
DTSTAMP:20260421T221422
CREATED:20231103T150916Z
LAST-MODIFIED:20240814T105547Z
UID:10000260-1726531200-1726876799@www.neuropac.info
SUMMARY:ICANN 2024
DESCRIPTION:33rd International Conference on Artificial Neural Networks (ICANN) 2024\nThe International Conference on Artificial Neural Networks (ICANN) is the annual flagship conference of the European Neural Network Society (ENNS). In 2024 the conference will be hosted by the swiss AI lab IDSIA and it will be held at the USI & SUPSI Campus Est\, Lugano-Viganello\, Switzerland. \nICANN is a conference featuring tracks in Brain Inspired Computing\, Machine Learning\, and Artificial Neural Networks\, with strong cross-disciplinary interactions and applications. \nThe 2024 edition of the ICANN will be organized by the Dalle Molle Institute for Artificial Intelligence Research (IDSIA USI-SUPSI) in Lugano\, Switzerland in collaboration with AIDD and AiChemist Horizon MSCA projects. \nConference venue: USI-SUPSI Campus Est\, Via la Santa 1\, 6962 Lugano-Viganello\, Switzerland \nConference dates: September 17 to September 20\, 2024.  \nThe ICANN 2024 will be organized as an in-person event. We thank all presenters for traveling to Lugano and joining the conference\, in order to foster the professional exchange between the participants.
URL:https://www.neuropac.info/event/icann-2024/
LOCATION:Lugano-Viganello\, Lugano-Viganello\, Switzerland
CATEGORIES:Conference
END:VEVENT
BEGIN:VEVENT
DTSTART;VALUE=DATE:20240928
DTEND;VALUE=DATE:20241003
DTSTAMP:20260421T221422
CREATED:20240809T235444Z
LAST-MODIFIED:20240809T235444Z
UID:10000293-1727481600-1727913599@www.neuropac.info
SUMMARY:From Neuroscience to Artificially Intelligent Systems (NAISys)
DESCRIPTION:We are pleased to announce the third Cold Spring Harbor conference on From Neuroscience to Artificially Intelligent Systems (NAISys)\, which will begin at 7:30 pm on Saturday\, September 28 and run through lunch on Wednesday October 2\, 2024 \nArtificial intelligence (AI) and neural networks have long drawn on neuroscience for inspiration. However\, in spite of tremendous recent advances in AI\, natural intelligence is still far more adept at interacting with the real world in real-time\, adapting to changes\, and doing so under significant physical and energetic constraints. The goal of this meeting is to bring together researchers at the intersection of AI and neuroscience\, and to identify insights from neuroscience that can help catalyze the development of next-generation artificial systems. \nAbstracts are welcomed on all scientific topics related to how principles and insights from neuroscience can lead to better artificial intelligence. Topics of interest include but are not limited to network architectures\, computing with spiking networks\, learning algorithms\, active perception\, inductive bias\, meta-learning\, and online learning. Please note that abstracts should be ONE page (~2900 characters).
URL:https://www.neuropac.info/event/from-neuroscience-to-artificially-intelligent-systems-naisys/
LOCATION:Cold Spring Harbor Laboratory\, Cold Spring Harbor\, NY\, 11724\, United States
CATEGORIES:Conference,Workshop
END:VEVENT
BEGIN:VEVENT
DTSTART;VALUE=DATE:20240929
DTEND;VALUE=DATE:20241001
DTSTAMP:20260421T221422
CREATED:20240602T181750Z
LAST-MODIFIED:20240602T181750Z
UID:10000287-1727568000-1727740799@www.neuropac.info
SUMMARY:Neuromorphic Vision Workshop @ ECCV 2024
DESCRIPTION:Neuromorphic sensors\, also known as event cameras\, are a class of imaging devices mimicking biological visual systems. Unlike traditional frame-based cameras\, which capture images synchronously\, neuromorphic sensors continuously generate events capturing asynchronous illumination changes. \nEvent cameras have initially gained interest in the field of robotics due to their low power consumption\, extremely low latency\, high dynamic range and absence of motion blur. Yet\, this wide range of intriguing properties has rapidly enabled new\, cutting-edge applications\, especially for motion-centric tasks. The very fine temporal granularity of event cameras allows to easily capture complex temporal dynamics in a scene\, so that the tackling of complex tasks can abstract from the low-level processing\, and focus directly on higher-level cognition. \nIn the past few years\, we have witnessed the development of new astonishing technologies based on neuromorphic vision: low latency and low power consumption have allowed drones to effectively avoid fast-moving obstacles; high dynamic range and lack of motion blur allowed self-driving cars to detect other vehicles and pedestrians in adverse conditions such as low illumination; micro-second temporal granularity has enhanced the analysis of human micro-expressions and emotions. Many other groundbreaking applications are leveraging neuromorphic sensors\, from high-speed object counting and defect detection to vibration measurement\, fluid monitoring and time-to-contact estimation for spacecraft landing. Event-based processing has also been shown to provide an extra layer of privacy preservation compared to standard cameras\, an important addition especially in light of the recent definition of the AI Act by the European Commission to regulate the development of artificial intelligence.
URL:https://www.neuropac.info/event/neuromorphic-vision-workshop-eccv-2024/
LOCATION:Milan\, Milan\, Italy
CATEGORIES:Workshop
END:VEVENT
BEGIN:VEVENT
DTSTART;VALUE=DATE:20240930
DTEND;VALUE=DATE:20241001
DTSTAMP:20260421T221422
CREATED:20241106T121747Z
LAST-MODIFIED:20241106T121747Z
UID:10000304-1727654400-1727740799@www.neuropac.info
SUMMARY:Neuromorphic Computing Netherlands 2024
DESCRIPTION:This event aims to bring together all the neuromorphs across and beyond the Netherlands for a one-day summit of talks\, presentations and exchange of ideas.
URL:https://www.neuropac.info/event/neuromorphic-computing-netherlands-2024/
LOCATION:Eindhoven University of Technology\, Eindhoven\, Netherlands
CATEGORIES:Workshop
END:VEVENT
END:VCALENDAR