BEGIN:VCALENDAR
VERSION:2.0
PRODID:-// - ECPv6.15.16//NONSGML v1.0//EN
CALSCALE:GREGORIAN
METHOD:PUBLISH
X-ORIGINAL-URL:https://www.neuropac.info
X-WR-CALDESC:Events for 
REFRESH-INTERVAL;VALUE=DURATION:PT1H
X-Robots-Tag:noindex
X-PUBLISHED-TTL:PT1H
BEGIN:VTIMEZONE
TZID:America/New_York
BEGIN:DAYLIGHT
TZOFFSETFROM:-0500
TZOFFSETTO:-0400
TZNAME:EDT
DTSTART:20240310T070000
END:DAYLIGHT
BEGIN:STANDARD
TZOFFSETFROM:-0400
TZOFFSETTO:-0500
TZNAME:EST
DTSTART:20241103T060000
END:STANDARD
BEGIN:DAYLIGHT
TZOFFSETFROM:-0500
TZOFFSETTO:-0400
TZNAME:EDT
DTSTART:20250309T070000
END:DAYLIGHT
BEGIN:STANDARD
TZOFFSETFROM:-0400
TZOFFSETTO:-0500
TZNAME:EST
DTSTART:20251102T060000
END:STANDARD
BEGIN:DAYLIGHT
TZOFFSETFROM:-0500
TZOFFSETTO:-0400
TZNAME:EDT
DTSTART:20260308T070000
END:DAYLIGHT
BEGIN:STANDARD
TZOFFSETFROM:-0400
TZOFFSETTO:-0500
TZNAME:EST
DTSTART:20261101T060000
END:STANDARD
END:VTIMEZONE
BEGIN:VTIMEZONE
TZID:Europe/Berlin
BEGIN:DAYLIGHT
TZOFFSETFROM:+0100
TZOFFSETTO:+0200
TZNAME:CEST
DTSTART:20240331T010000
END:DAYLIGHT
BEGIN:STANDARD
TZOFFSETFROM:+0200
TZOFFSETTO:+0100
TZNAME:CET
DTSTART:20241027T010000
END:STANDARD
BEGIN:DAYLIGHT
TZOFFSETFROM:+0100
TZOFFSETTO:+0200
TZNAME:CEST
DTSTART:20250330T010000
END:DAYLIGHT
BEGIN:STANDARD
TZOFFSETFROM:+0200
TZOFFSETTO:+0100
TZNAME:CET
DTSTART:20251026T010000
END:STANDARD
BEGIN:DAYLIGHT
TZOFFSETFROM:+0100
TZOFFSETTO:+0200
TZNAME:CEST
DTSTART:20260329T010000
END:DAYLIGHT
BEGIN:STANDARD
TZOFFSETFROM:+0200
TZOFFSETTO:+0100
TZNAME:CET
DTSTART:20261025T010000
END:STANDARD
END:VTIMEZONE
BEGIN:VEVENT
DTSTART;VALUE=DATE:20250327
DTEND;VALUE=DATE:20250402
DTSTAMP:20260423T004600
CREATED:20250205T093300Z
LAST-MODIFIED:20250205T093300Z
UID:10000322-1743033600-1743551999@www.neuropac.info
SUMMARY:COSYNE 2025
DESCRIPTION:We are very happy to invite you to the 22nd annual Computational and Systems Neuroscience (COSYNE) conference\, taking place in Montreal\, and Mont Tremblant\, Quebec\, Canada from 27 March to 1 April 2025! \nCOSYNE was founded in 2004 to provide an inclusive forum for the exchange of empirical and theoretical approaches to problems in systems neuroscience\, in order to understand how neural systems function. Today\, it is recognized as the premier computational and systems neuroscience conference\, drawing over 1\,000 researchers annually from a wide variety of disciplines. \nThe success of COSYNE and its scientific program depends critically on the free exchange of ideas and recent findings\, which involves the international neuroscience community at large. Therefore\, we sincerely hope that you will attend.
URL:https://www.neuropac.info/event/cosyne-2025/
LOCATION:Montreal\, Montreal\, Canada
CATEGORIES:Conference
END:VEVENT
BEGIN:VEVENT
DTSTART;VALUE=DATE:20250401
DTEND;VALUE=DATE:20250403
DTSTAMP:20260423T004600
CREATED:20250404T174335Z
LAST-MODIFIED:20250404T174335Z
UID:10000329-1743465600-1743638399@www.neuropac.info
SUMMARY:Neuromorphic Computing in Sweden
DESCRIPTION:The workshop is part of a VINNOVA-funded national pre-study aimed at analyzing the national and international research and innovation landscape. Our goal is to establish a national innovation platform for neuromorphic technology that fosters industrial leadership\, international collaboration\, resilience\, and sustainability. Partners of the pre-study are KTH\, Luleå university of technology\, Lunds university\, Uppsala university\, ABB\, ERICSSON\, FOI and SAAB. \nGain insight into the latest research and innovations in neuromorphic technology. Influence the development of a strategy for Swedish industrial success. Contribute to a vision that connects multidisciplinary academia and business. Your ideas\, perspectives\, and creativity can make a difference! \nTogether we create the foundation for the future of neuromorphic technology in Sweden! \nThe conference is co-sponsored by Digital Futures.
URL:https://www.neuropac.info/event/neuromorphic-computing-in-sweden/
LOCATION:Digital Futures Hub\, Osquars Backe 5\, floor 2\, KTH Stockholm\, Stockholm\, Sweden
CATEGORIES:Workshop
END:VEVENT
BEGIN:VEVENT
DTSTART;TZID=Europe/Berlin:20250401T140000
DTEND;TZID=Europe/Berlin:20250401T150000
DTSTAMP:20260423T004600
CREATED:20250404T174514Z
LAST-MODIFIED:20250404T174514Z
UID:10000330-1743516000-1743519600@www.neuropac.info
SUMMARY:NHR PerfLab Seminar: Neuromorphic Computing from the Computer Science Perspective – Algorithms and Applications
DESCRIPTION:Speaker: Catherine Schuman\, Department of Electrical Engineering and Computer Science\, University of Tennessee \nDate and time: Tuesday\, April 1\, 2025\, 2:00 p.m. CEST \nZoom: https://go-nhr.de/perflab-seminar \nAbstract Neuromorphic computing is a popular technology for the future of computing.  Much of the focus in neuromorphic computing research and development has focused on new architectures\, devices\, and materials\, rather than in the software\, algorithms\, and applications of these systems.  In this talk\, I will overview the field of neuromorphic from the computer science perspective.  I will give an introduction to spiking neural networks\, as well as some of the most common algorithms used in the field.  Finally\, I will discuss the potential for using neuromorphic systems in real-world applications\, from scientific data analysis to autonomous vehicles.
URL:https://www.neuropac.info/event/nhr-perflab-seminar-neuromorphic-computing-from-the-computer-science-perspective-algorithms-and-applications/
LOCATION:Online
CATEGORIES:Talk
END:VEVENT
BEGIN:VEVENT
DTSTART;VALUE=DATE:20250413
DTEND;VALUE=DATE:20250414
DTSTAMP:20260423T004600
CREATED:20250205T090622Z
LAST-MODIFIED:20250205T090622Z
UID:10000315-1744502400-1744588799@www.neuropac.info
SUMMARY:NeurotechEU Symposium 2025
DESCRIPTION:The NeurotechEU Symposium\, entitled “Advancing Neurotechnology — Bridging Brains\, Machines and Society”\, will be hosted by the University of Bonn on the occasion of the NeurotechEU Board of Rectors Meeting 2025. The scientific community is invited to attend and participate in discussions on the various aspects of neurotechnology. Renowned scientists from the universities of the NeurotechEU alliance will give exciting talks in four different sessions: in the field of Fundamental and Clinical Neuroscience by Robert Harris\, Guillermina López-Bendito and Abdel el Manira\, Neuroinformatic and Neuromorphic Systems by Tatjana Tchumatchenko\, Jürgen Gall and Marcel van Gerven\, Neurotechnology for Health by Dafin Fior Muresanu\, José M. Azorín\, Jeremie Dequidt and Paolo Gargiulo\, and Neurometaphysics by Begüm Özkaynak\, Olympia Colizoli and Juliette Sénéchal. Find out more about the program on the symposium webpage.
URL:https://www.neuropac.info/event/neurotecheu-symposium-2025/
LOCATION:DZNE\, Venusberg Campus 1/ Gebäude 99\, Bonn\, 53127\, Germany
CATEGORIES:Symposium
END:VEVENT
BEGIN:VEVENT
DTSTART;VALUE=DATE:20250424
DTEND;VALUE=DATE:20250429
DTSTAMP:20260423T004600
CREATED:20250306T155009Z
LAST-MODIFIED:20250306T155009Z
UID:10000327-1745452800-1745884799@www.neuropac.info
SUMMARY:International Conference on Learning Representations (ICLR)
DESCRIPTION:The International Conference on Learning Representations (ICLR) is the premier gathering of professionals dedicated to the advancement of the branch of artificial intelligence called representation learning\, but generally referred to as deep learning. \nICLR is globally renowned for presenting and publishing cutting-edge research on all aspects of deep learning used in the fields of artificial intelligence\, statistics and data science\, as well as important application areas such as machine vision\, computational biology\, speech recognition\, text understanding\, gaming\, and robotics. \nRelevant workshops this year include: Bidirectional Human-AI Alignment\, Scalable Optimization for Efficient and Adaptive Foundation Models\, New Frontiers in Associative Memories\, Sparsity in LLMs.
URL:https://www.neuropac.info/event/international-conference-on-learning-representations-iclr/
LOCATION:Singapore Resorts World Convention Centre\, Singapore\, Singapore
CATEGORIES:Conference,Workshop
END:VEVENT
BEGIN:VEVENT
DTSTART;VALUE=DATE:20250428
DTEND;VALUE=DATE:20250501
DTSTAMP:20260423T004600
CREATED:20241230T095755Z
LAST-MODIFIED:20241230T095755Z
UID:10000310-1745798400-1746057599@www.neuropac.info
SUMMARY:IEEE International Conference on Artificial Intelligence Circuits and Systems (AICAS)
DESCRIPTION:Artificial Intelligence (AI) is driving a revolution in information technology as well as in many industries. New computing paradigms are required to support the emerging AI algorithms and applications\, running on a diversity of platforms\, from edge devices to cloud servers and from circuit level to system level. Addressing this challenge and opportunity\, the AICAS conference has been established as the premier conference of the IEEE Circuits and Systems Society to promote and facilitate state-of-the-art research\, innovation\, and development activities at the frontiers of artificial intelligence circuits and systems. It serves as an excellent platform allowing world scholars\, technology researchers\, and industry to exchange experiences\, demonstrate their studies\, and further advance AI circuits and systems technologies.
URL:https://www.neuropac.info/event/ieee-international-conference-on-artificial-intelligence-circuits-and-systems-aicas/
LOCATION:Bordeaux\, France\, Bordeaux\, France
CATEGORIES:Conference
END:VEVENT
END:VCALENDAR