BEGIN:VCALENDAR
VERSION:2.0
PRODID:-// - ECPv6.15.16//NONSGML v1.0//EN
CALSCALE:GREGORIAN
METHOD:PUBLISH
X-ORIGINAL-URL:https://www.neuropac.info
X-WR-CALDESC:Events for 
REFRESH-INTERVAL;VALUE=DURATION:PT1H
X-Robots-Tag:noindex
X-PUBLISHED-TTL:PT1H
BEGIN:VTIMEZONE
TZID:Europe/Helsinki
BEGIN:DAYLIGHT
TZOFFSETFROM:+0200
TZOFFSETTO:+0300
TZNAME:EEST
DTSTART:20250330T010000
END:DAYLIGHT
BEGIN:STANDARD
TZOFFSETFROM:+0300
TZOFFSETTO:+0200
TZNAME:EET
DTSTART:20251026T010000
END:STANDARD
BEGIN:DAYLIGHT
TZOFFSETFROM:+0200
TZOFFSETTO:+0300
TZNAME:EEST
DTSTART:20260329T010000
END:DAYLIGHT
BEGIN:STANDARD
TZOFFSETFROM:+0300
TZOFFSETTO:+0200
TZNAME:EET
DTSTART:20261025T010000
END:STANDARD
BEGIN:DAYLIGHT
TZOFFSETFROM:+0200
TZOFFSETTO:+0300
TZNAME:EEST
DTSTART:20270328T010000
END:DAYLIGHT
BEGIN:STANDARD
TZOFFSETFROM:+0300
TZOFFSETTO:+0200
TZNAME:EET
DTSTART:20271031T010000
END:STANDARD
END:VTIMEZONE
BEGIN:VTIMEZONE
TZID:Europe/Moscow
BEGIN:STANDARD
TZOFFSETFROM:+0300
TZOFFSETTO:+0300
TZNAME:MSK
DTSTART:20250101T000000
END:STANDARD
END:VTIMEZONE
BEGIN:VEVENT
DTSTART;VALUE=DATE:20260628
DTEND;VALUE=DATE:20260703
DTSTAMP:20260422T181453
CREATED:20251115T215937Z
LAST-MODIFIED:20260328T103514Z
UID:10000388-1782604800-1783036799@www.neuropac.info
SUMMARY:ICNCE 2026 — International Conference on Neuromorphic Computing and Engineering
DESCRIPTION:Short Overview:ICNCE 2026 is an interdisciplinary conference merging neuroscience\, microelectronics\, artificial intelligence\, and computer science. Topics cover neuromorphic circuits\, energy-efficient architectures\, brain-inspired algorithms\, and biologically motivated computing systems. The conference aims to inspire the next generation of researchers\, supporting bachelor and master students with sponsored participation. \nCall for Abstracts:\nThe call for poster and oral contributions is now open. Please submit a one-page PDF of your abstract via the link below:\nhttps://iffindico.fz-juelich.de/event/28/abstracts/#submit-abstract \n– Submission Deadline: April 3 (AoE)\n– Notification of Acceptance: April 30
URL:https://www.neuropac.info/event/icnce-2026-international-conference-on-neuromorphic-computing-and-engineering/
LOCATION:Eurogress Aachen\, Lousberg Park Area (near historical city center)\, Aachen\, Germany
CATEGORIES:Conference
ORGANIZER;CN="ICNCE Organizing Committee":MAILTO:info@icnce-2026.de
END:VEVENT
BEGIN:VEVENT
DTSTART;VALUE=DATE:20260629
DTEND;VALUE=DATE:20260716
DTSTAMP:20260422T181453
CREATED:20251221T110423Z
LAST-MODIFIED:20251221T110522Z
UID:10000402-1782691200-1784159999@www.neuropac.info
SUMMARY:TReND-CaMiNA 2026: Computational Neuroscience & Machine Learning in Africa
DESCRIPTION:Short Overview:TReND-CaMiNA is an intensive\, fully funded summer school designed to equip participants with foundational skills in computational neuroscience and machine learning\, blending interactive theory\, practical Python coding\, and group research projects using real neural datasets. \nApplication Details:\n\nApplications Open: 15 December 2025\nApplications Close: 31 January 2026Participants must submit a completed application form\, a 1-page CV\, and two letters of recommendation.
URL:https://www.neuropac.info/event/trend-camina-2026-computational-neuroscience-machine-learning-in-africa/
LOCATION:Dedan Kimathi University of Technology (DeKUT)\, Nyeri\, Kenya
CATEGORIES:School
ORGANIZER;CN="TReND in Africa":MAILTO:camina@trendinafrica.org
END:VEVENT
BEGIN:VEVENT
DTSTART;VALUE=DATE:20260708
DTEND;VALUE=DATE:20260801
DTSTAMP:20260422T181453
CREATED:20260130T115245Z
LAST-MODIFIED:20260130T115245Z
UID:10000419-1783468800-1785542399@www.neuropac.info
SUMMARY:Systems Vision Science Summer School & Symposium 2026
DESCRIPTION:Short Overview:The Systems Vision Science Summer School & Symposium is an immersive\, multi-week educational programme combining computational\, behavioral\, and neuroscience methods to understand visual processing in the brain. The course blends lectures\, exercises\, discussions\, and a culminating symposium that brings together vision scientists\, modelers\, and experimentalists for deep scientific exchange. \nTopics\n\nSystems approaches to visual neuroscience\nComputational models of vision\nIntegration of data\, theory\, and models\nNeural and behavioral vision science\nVisual psychophysics and coding\nMulti-scale analysis of neural circuits in vision systems
URL:https://www.neuropac.info/event/systems-vision-science-summer-school-symposium-2026/
LOCATION:Virtual Summer School (Online)
CATEGORIES:School,Tutorial
END:VEVENT
END:VCALENDAR