BEGIN:VCALENDAR
VERSION:2.0
PRODID:-// - ECPv6.15.16//NONSGML v1.0//EN
CALSCALE:GREGORIAN
METHOD:PUBLISH
X-ORIGINAL-URL:https://www.neuropac.info
X-WR-CALDESC:Events for 
REFRESH-INTERVAL;VALUE=DURATION:PT1H
X-Robots-Tag:noindex
X-PUBLISHED-TTL:PT1H
BEGIN:VTIMEZONE
TZID:Europe/Helsinki
BEGIN:DAYLIGHT
TZOFFSETFROM:+0200
TZOFFSETTO:+0300
TZNAME:EEST
DTSTART:20240331T010000
END:DAYLIGHT
BEGIN:STANDARD
TZOFFSETFROM:+0300
TZOFFSETTO:+0200
TZNAME:EET
DTSTART:20241027T010000
END:STANDARD
BEGIN:DAYLIGHT
TZOFFSETFROM:+0200
TZOFFSETTO:+0300
TZNAME:EEST
DTSTART:20250330T010000
END:DAYLIGHT
BEGIN:STANDARD
TZOFFSETFROM:+0300
TZOFFSETTO:+0200
TZNAME:EET
DTSTART:20251026T010000
END:STANDARD
BEGIN:DAYLIGHT
TZOFFSETFROM:+0200
TZOFFSETTO:+0300
TZNAME:EEST
DTSTART:20260329T010000
END:DAYLIGHT
BEGIN:STANDARD
TZOFFSETFROM:+0300
TZOFFSETTO:+0200
TZNAME:EET
DTSTART:20261025T010000
END:STANDARD
END:VTIMEZONE
BEGIN:VEVENT
DTSTART;TZID=Europe/Helsinki:20251027T090000
DTEND;TZID=Europe/Helsinki:20251030T170000
DTSTAMP:20260422T203401
CREATED:20251011T145044Z
LAST-MODIFIED:20251011T145044Z
UID:10000367-1761555600-1761843600@www.neuropac.info
SUMMARY:A2 Brain-Inspired Neuromorphic Computing
DESCRIPTION:Short Overview:A four-day intensive course (October 27–30\, 2025) introducing principles\, hardware/software co-design\, and applications of neuromorphic computing. It includes lectures\, hands-on labs\, invited talks\, and a small project component. \nRegistration: https://asci.school/courses/#1568538102979-5bf6a62f-ac8b
URL:https://www.neuropac.info/event/a2-brain-inspired-neuromorphic-computing/
LOCATION:Connect Offices R1\, 6th Floor\, Utrecht\, Hoog Catharijne – Boven Vredenburgpassage\, entrance next to Rituals\, Utrecht\, Netherlands
CATEGORIES:School,Tutorial
ORGANIZER;CN="Advanced School for Computing and Imaging (ASCI)":MAILTO:asci-office@tudelft.nl
END:VEVENT
END:VCALENDAR