BEGIN:VCALENDAR
VERSION:2.0
PRODID:-// - ECPv6.15.16//NONSGML v1.0//EN
CALSCALE:GREGORIAN
METHOD:PUBLISH
X-ORIGINAL-URL:https://www.neuropac.info
X-WR-CALDESC:Events for 
REFRESH-INTERVAL;VALUE=DURATION:PT1H
X-Robots-Tag:noindex
X-PUBLISHED-TTL:PT1H
BEGIN:VTIMEZONE
TZID:Europe/Moscow
BEGIN:STANDARD
TZOFFSETFROM:+0300
TZOFFSETTO:+0300
TZNAME:MSK
DTSTART:20250101T000000
END:STANDARD
END:VTIMEZONE
BEGIN:VTIMEZONE
TZID:Europe/Helsinki
BEGIN:DAYLIGHT
TZOFFSETFROM:+0200
TZOFFSETTO:+0300
TZNAME:EEST
DTSTART:20250330T010000
END:DAYLIGHT
BEGIN:STANDARD
TZOFFSETFROM:+0300
TZOFFSETTO:+0200
TZNAME:EET
DTSTART:20251026T010000
END:STANDARD
BEGIN:DAYLIGHT
TZOFFSETFROM:+0200
TZOFFSETTO:+0300
TZNAME:EEST
DTSTART:20260329T010000
END:DAYLIGHT
BEGIN:STANDARD
TZOFFSETFROM:+0300
TZOFFSETTO:+0200
TZNAME:EET
DTSTART:20261025T010000
END:STANDARD
BEGIN:DAYLIGHT
TZOFFSETFROM:+0200
TZOFFSETTO:+0300
TZNAME:EEST
DTSTART:20270328T010000
END:DAYLIGHT
BEGIN:STANDARD
TZOFFSETFROM:+0300
TZOFFSETTO:+0200
TZNAME:EET
DTSTART:20271031T010000
END:STANDARD
END:VTIMEZONE
BEGIN:VEVENT
DTSTART;VALUE=DATE:20260519
DTEND;VALUE=DATE:20260523
DTSTAMP:20260422T132310
CREATED:20251122T234210Z
LAST-MODIFIED:20251122T234210Z
UID:10000393-1779148800-1779494399@www.neuropac.info
SUMMARY:EMBO Workshop — Dendrites and Beyond: Properties\, Function and Contributions to Network Processing
DESCRIPTION:Short Overview:This workshop brings together molecular\, biophysical\, anatomical\, computational\, and functional neuroscience researchers to deepen understanding of dendritic computations in neural circuits. Topics include synaptic inputs\, plasticity\, dendritic integration\, and how these contribute to perception\, memory\, and behavior — with cross-talk to neuro-inspired AI. \nCosts and Fees: \n\nStudent / Postdoc: €350\nAcademic: €500\nIndustry: €800
URL:https://www.neuropac.info/event/embo-workshop-dendrites-and-beyond-properties-function-and-contributions-to-network-processing/
LOCATION:Galaxy Hotel Heraklio (conference hotel)\, Dimokratias Avenue 75\, Heraklion\, Crete\, 71306\, Greece
CATEGORIES:Conference,Workshop
ORGANIZER;CN="EMBO Courses & Workshops Committee":MAILTO:z.pazaiti@artion.com.gr
END:VEVENT
BEGIN:VEVENT
DTSTART;VALUE=DATE:20260609
DTEND;VALUE=DATE:20260613
DTSTAMP:20260422T132310
CREATED:20260227T161227Z
LAST-MODIFIED:20260227T161731Z
UID:10000426-1780963200-1781308799@www.neuropac.info
SUMMARY:Bio-inspired Deep Learning Workshop 2026: Neuromorphic Computing
DESCRIPTION:Short Overview:\nA focused workshop exploring bio-inspired deep learning and neuromorphic computing\, led by Prof. Elisa Donati (University of Zurich & ETH Zürich) with support from the Joachim Herz Foundation. The workshop covers intersections of mathematical modelling\, machine learning\, and data analysis with brain-inspired approaches\, including hybrid artificial and biological neural systems. \n\nApplication: deadline: 02-03-2026 at 12:00 (CET)\nApplication: here\n📄 Download Workshop Flyer (PDF)
URL:https://www.neuropac.info/event/bio-inspired-deep-learning-workshop-2026-neuromorphic-computing/
LOCATION:Weingut Domhof & Schlafgut Domhof\, Guntersblum\, Germany
CATEGORIES:Workshop
ORGANIZER;CN="Bio-inspired DL workshop 2026":MAILTO:meggl@umh.es
END:VEVENT
BEGIN:VEVENT
DTSTART;VALUE=DATE:20260706
DTEND;VALUE=DATE:20260711
DTSTAMP:20260422T132310
CREATED:20260130T131934Z
LAST-MODIFIED:20260130T132722Z
UID:10000422-1783296000-1783727999@www.neuropac.info
SUMMARY:FENS Forum 2026 — Federation of European Neuroscience Societies
DESCRIPTION:Short Overview:The FENS Forum 2026 is the flagship international neuroscience congress organised by the Federation of European Neuroscience Societies (FENS) in partnership with the Spanish Society of Neuroscience. It is one of Europe’s largest neuroscience meetings\, bringing together thousands of researchers from basic\, computational\, clinical\, and translational neuroscience to present cutting-edge research\, attend symposia\, workshops\, poster sessions\, and connecting events. \nTopics\n\nSystems\, cellular\, and molecular neuroscience\nNeurophysiology and brain circuit dynamics\nCognitive and computational neuroscience\nNeuroimaging and brain mapping\nDevelopmental\, sensory\, motor systems\nBehavioural and psychological neuroscience\nNeurotechnology and brain-computer interfaces\nTranslational neuroscience and clinical applications\nInformation processing and neural coding\nInterdisciplinary methods and machine learning in neuroscience
URL:https://www.neuropac.info/event/fens-forum-2026-federation-of-european-neuroscience-societies/
LOCATION:Fira de Barcelona – Gran Via\, Carrer de l’Alumini\, s/n\, Barcelona\, 08908\, Spain
CATEGORIES:Conference
END:VEVENT
END:VCALENDAR