BEGIN:VCALENDAR
VERSION:2.0
PRODID:-// - ECPv6.15.16//NONSGML v1.0//EN
CALSCALE:GREGORIAN
METHOD:PUBLISH
X-ORIGINAL-URL:https://www.neuropac.info
X-WR-CALDESC:Events for 
REFRESH-INTERVAL;VALUE=DURATION:PT1H
X-Robots-Tag:noindex
X-PUBLISHED-TTL:PT1H
BEGIN:VTIMEZONE
TZID:America/Halifax
BEGIN:DAYLIGHT
TZOFFSETFROM:-0400
TZOFFSETTO:-0300
TZNAME:ADT
DTSTART:20250309T060000
END:DAYLIGHT
BEGIN:STANDARD
TZOFFSETFROM:-0300
TZOFFSETTO:-0400
TZNAME:AST
DTSTART:20251102T050000
END:STANDARD
BEGIN:DAYLIGHT
TZOFFSETFROM:-0400
TZOFFSETTO:-0300
TZNAME:ADT
DTSTART:20260308T060000
END:DAYLIGHT
BEGIN:STANDARD
TZOFFSETFROM:-0300
TZOFFSETTO:-0400
TZNAME:AST
DTSTART:20261101T050000
END:STANDARD
BEGIN:DAYLIGHT
TZOFFSETFROM:-0400
TZOFFSETTO:-0300
TZNAME:ADT
DTSTART:20270314T060000
END:DAYLIGHT
BEGIN:STANDARD
TZOFFSETFROM:-0300
TZOFFSETTO:-0400
TZNAME:AST
DTSTART:20271107T050000
END:STANDARD
END:VTIMEZONE
BEGIN:VTIMEZONE
TZID:Europe/Helsinki
BEGIN:DAYLIGHT
TZOFFSETFROM:+0200
TZOFFSETTO:+0300
TZNAME:EEST
DTSTART:20250330T010000
END:DAYLIGHT
BEGIN:STANDARD
TZOFFSETFROM:+0300
TZOFFSETTO:+0200
TZNAME:EET
DTSTART:20251026T010000
END:STANDARD
BEGIN:DAYLIGHT
TZOFFSETFROM:+0200
TZOFFSETTO:+0300
TZNAME:EEST
DTSTART:20260329T010000
END:DAYLIGHT
BEGIN:STANDARD
TZOFFSETFROM:+0300
TZOFFSETTO:+0200
TZNAME:EET
DTSTART:20261025T010000
END:STANDARD
BEGIN:DAYLIGHT
TZOFFSETFROM:+0200
TZOFFSETTO:+0300
TZNAME:EEST
DTSTART:20270328T010000
END:DAYLIGHT
BEGIN:STANDARD
TZOFFSETFROM:+0300
TZOFFSETTO:+0200
TZNAME:EET
DTSTART:20271031T010000
END:STANDARD
END:VTIMEZONE
BEGIN:VEVENT
DTSTART;VALUE=DATE:20260809
DTEND;VALUE=DATE:20260813
DTSTAMP:20260422T142535
CREATED:20260126T113213Z
LAST-MODIFIED:20260126T113454Z
UID:10000414-1786233600-1786579199@www.neuropac.info
SUMMARY:MWSCAS 2026 — 69th IEEE International Midwest Symposium on Circuits and Systems
DESCRIPTION:Short Overview:The 69th IEEE International Midwest Symposium on Circuits and Systems (MWSCAS 2026) is a premier technical conference organized by the IEEE Circuits and Systems Society. It explores cutting-edge research in circuits and systems with an emphasis on the theme “Co-Design Across Scale — From Systems to Devices to Circuits” through keynote talks\, peer-reviewed oral and poster sessions\, tutorials\, special sessions\, and student activities. \nTopics\nMWSCAS 2026 invites contributions across a broad range of circuits and systems areas\, including but not limited to: \n\nAnalog & mixed-signal circuits and systems\nDigital integrated circuits\nPower & energy systems\nSensory and biomedical circuits\nSignal\, image & speech processing\nWireless & communication systems\nNeural / neuromorphic circuits and systems\nAI\, machine learning & edge computing hardware\nBeyond-CMOS circuits and architectures\nOther emerging circuits and systems research\n\nImportant Dates\n\nTutorial & Special Session Proposal Deadline: 2 March 2026\nPaper Submission Deadline: 16 March 2026\nFinal Paper Submission Deadline: 8 June 2026\nConference: 9 – 12 August 2026\n\nMore info: https://mwscas2026.org/wp-content/uploads/MWSCAS26-CFP_Rev_0808-1.pdf
URL:https://www.neuropac.info/event/mwscas-2026-69th-ieee-international-midwest-symposium-on-circuits-and-systems/
LOCATION:Hilton Cincinnati Netherland Plaza\, 35 West Fifth Street\, Ohio\, 45202\, United States
CATEGORIES:Conference,Workshop
END:VEVENT
BEGIN:VEVENT
DTSTART;VALUE=DATE:20261108
DTEND;VALUE=DATE:20261112
DTSTAMP:20260422T142535
CREATED:20260418T100854Z
LAST-MODIFIED:20260418T100854Z
UID:10000437-1794096000-1794441599@www.neuropac.info
SUMMARY:33rd IEEE International Conference on Electronics Circuits and Systems (ICECS 2026)
DESCRIPTION:Short overview:ICECS 2026 is the 33rd edition of a flagship conference of the IEEE Circuits and Systems Society\, bringing together academic researchers and industry professionals to present advances in electronics\, circuits\, and systems. The event emphasizes interdisciplinary collaboration and emerging technologies across hardware\, AI\, sensing\, and system design. \nTopics:Analog and mixed-signal circuits; RF circuits; biomedical and bio-inspired systems; digital circuits; nonlinear systems; low-power design; EDA and reliability; circuits for AI; AI-driven circuit design; energy harvesting; embedded systems; sensors and sensing systems; neural networks and deep learning hardware; signal processing; VLSI systems; emerging technologies.
URL:https://www.neuropac.info/event/33rd-ieee-international-conference-on-electronics-circuits-and-systems-icecs-2026/
LOCATION:The MET Hotel\, 26is Oktovriou 48\, Thessaloniki\, 54627\, Greece
CATEGORIES:Conference
END:VEVENT
END:VCALENDAR