BEGIN:VCALENDAR
VERSION:2.0
PRODID:-// - ECPv6.15.16//NONSGML v1.0//EN
CALSCALE:GREGORIAN
METHOD:PUBLISH
X-ORIGINAL-URL:https://www.neuropac.info
X-WR-CALDESC:Events for 
REFRESH-INTERVAL;VALUE=DURATION:PT1H
X-Robots-Tag:noindex
X-PUBLISHED-TTL:PT1H
BEGIN:VTIMEZONE
TZID:UTC
BEGIN:STANDARD
TZOFFSETFROM:+0000
TZOFFSETTO:+0000
TZNAME:UTC
DTSTART:20220101T000000
END:STANDARD
END:VTIMEZONE
BEGIN:VEVENT
DTSTART;VALUE=DATE:20230521
DTEND;VALUE=DATE:20230526
DTSTAMP:20260422T140917
CREATED:20230129T222609Z
LAST-MODIFIED:20230129T222609Z
UID:10000024-1684627200-1685059199@www.neuropac.info
SUMMARY:International Symposium on Circuits and Systems (ISCAS) 2023
DESCRIPTION:The IEEE International Symposium on Circuits and Systems (ISCAS) is the flagship conference of the IEEE Circuits and Systems (CAS) Society and the world’s premiere forum for researchers in the active fields of theory\, design and implementation of circuits and systems.
URL:https://www.neuropac.info/event/international-symposium-on-circuits-and-systems-iscas-2023/
LOCATION:Monterey\, Monterey\, CA\, United States
CATEGORIES:Conference
END:VEVENT
END:VCALENDAR