BEGIN:VCALENDAR
VERSION:2.0
PRODID:-// - ECPv6.15.16//NONSGML v1.0//EN
CALSCALE:GREGORIAN
METHOD:PUBLISH
X-ORIGINAL-URL:https://www.neuropac.info
X-WR-CALDESC:Events for 
REFRESH-INTERVAL;VALUE=DURATION:PT1H
X-Robots-Tag:noindex
X-PUBLISHED-TTL:PT1H
BEGIN:VTIMEZONE
TZID:Europe/Berlin
BEGIN:DAYLIGHT
TZOFFSETFROM:+0100
TZOFFSETTO:+0200
TZNAME:CEST
DTSTART:20230326T010000
END:DAYLIGHT
BEGIN:STANDARD
TZOFFSETFROM:+0200
TZOFFSETTO:+0100
TZNAME:CET
DTSTART:20231029T010000
END:STANDARD
BEGIN:DAYLIGHT
TZOFFSETFROM:+0100
TZOFFSETTO:+0200
TZNAME:CEST
DTSTART:20240331T010000
END:DAYLIGHT
BEGIN:STANDARD
TZOFFSETFROM:+0200
TZOFFSETTO:+0100
TZNAME:CET
DTSTART:20241027T010000
END:STANDARD
BEGIN:DAYLIGHT
TZOFFSETFROM:+0100
TZOFFSETTO:+0200
TZNAME:CEST
DTSTART:20250330T010000
END:DAYLIGHT
BEGIN:STANDARD
TZOFFSETFROM:+0200
TZOFFSETTO:+0100
TZNAME:CET
DTSTART:20251026T010000
END:STANDARD
END:VTIMEZONE
BEGIN:VEVENT
DTSTART;TZID=Europe/Berlin:20240305T180000
DTEND;TZID=Europe/Berlin:20240305T193000
DTSTAMP:20260422T143826
CREATED:20240130T001106Z
LAST-MODIFIED:20240308T111533Z
UID:10000277-1709661600-1709667000@www.neuropac.info
SUMMARY:Maxence Ernoult @ ONM: Accelerating Neuromorphic Inference and Training at the Edge @ Rain
DESCRIPTION:From the Open Neuromorphic website. \n\n\nMaxence will present us Rain’s vision and technological roadmap to build hardware optimized for inference and training at the edge including both the hardware and algorithm aspects with an emphasis on why physical and mathematical principles matter more to him than biological inspiration. \n\n\n\n\n\nAbout the Speaker\nMaxence Ernoult graduated from Ecole Polytechnique and the University of Cambridge in 2016\, specializing in applied mathematics and theoretical physics. His PhD research was conducted in neuromorphic computing at Sorbonne University\, in collaboration with Mila. During this time\, he specialized in developing hardware-friendly alternatives to backpropagation and played a significant role in scaling up several of these alternatives\, including Equilibrium Propagation and Difference Target Propagation. This work was undertaken alongside notable figures such as Ben Scellier\, Blake Richards\, and Yoshua Bengio. In 2021\, Maxence joined IBM Research\, focusing on AI safety. Subsequently\, in 2022\, he began a new position at Rain.
URL:https://www.neuropac.info/event/maxence-ernoult-onm-accelerating-neuromorphic-inference-and-training-at-the-edge-rain/
LOCATION:Online
CATEGORIES:Talk,Workshop
END:VEVENT
END:VCALENDAR