BEGIN:VCALENDAR
VERSION:2.0
PRODID:-// - ECPv6.15.16//NONSGML v1.0//EN
CALSCALE:GREGORIAN
METHOD:PUBLISH
X-ORIGINAL-URL:https://www.neuropac.info
X-WR-CALDESC:Events for 
REFRESH-INTERVAL;VALUE=DURATION:PT1H
X-Robots-Tag:noindex
X-PUBLISHED-TTL:PT1H
BEGIN:VTIMEZONE
TZID:America/New_York
BEGIN:DAYLIGHT
TZOFFSETFROM:-0500
TZOFFSETTO:-0400
TZNAME:EDT
DTSTART:20230312T070000
END:DAYLIGHT
BEGIN:STANDARD
TZOFFSETFROM:-0400
TZOFFSETTO:-0500
TZNAME:EST
DTSTART:20231105T060000
END:STANDARD
BEGIN:DAYLIGHT
TZOFFSETFROM:-0500
TZOFFSETTO:-0400
TZNAME:EDT
DTSTART:20240310T070000
END:DAYLIGHT
BEGIN:STANDARD
TZOFFSETFROM:-0400
TZOFFSETTO:-0500
TZNAME:EST
DTSTART:20241103T060000
END:STANDARD
BEGIN:DAYLIGHT
TZOFFSETFROM:-0500
TZOFFSETTO:-0400
TZNAME:EDT
DTSTART:20250309T070000
END:DAYLIGHT
BEGIN:STANDARD
TZOFFSETFROM:-0400
TZOFFSETTO:-0500
TZNAME:EST
DTSTART:20251102T060000
END:STANDARD
END:VTIMEZONE
BEGIN:VEVENT
DTSTART;VALUE=DATE:20240602
DTEND;VALUE=DATE:20240615
DTSTAMP:20260422T181259
CREATED:20240130T002517Z
LAST-MODIFIED:20240130T002517Z
UID:10000279-1717286400-1718409599@www.neuropac.info
SUMMARY:Nengo Summer School
DESCRIPTION:The Centre for Theoretical Neuroscience at the University of Waterloo is excited to announce our 9th annual Nengo summer school on large-scale brain modelling and neuromorphic computing. As a recurring special feature of the school\, participants will be given on-site access to neuromorphic hardware\, including Stanford’s mixed digital/analog chipBraindrop\, the SpiNNaker chip\, and a variety of FPGAs. \nIn addition to teaching participants to run applications on neuromorphic hardware using the Nengo simulation package\, this two-week school will teach participants to use Nengo to build state-of-the-art cognitive and neural models. More generally\, Nengo provides users with a versatile and powerful environment for designing cognitive and neural systems\, and has been used to build what is currently the world’s largest functional brain model\, Spaun\, which includes spiking deep learning\, reinforcement learning\, adaptive motor control\, and cognitive control networks. \nWe welcome applications from all interested graduate students\, postdocs\, professors\, and industry professionals. No specific training in the use of modelling software is required\, but we encourage applications from active researchers with a relevant background in psychology\, neuroscience\, cognitive science\, computer science\, robotics\, neuromorphic engineering\, or a related field. More information about Nengo\, the Neural Engineering Framework\, and Spaun can be found athttps://www.nengo.ai/. Many of the concepts to be covered are in this book. \nPurpose: The main goal of the summer school is to have participants learn to build state-of-the-art neural or cognitive models using Nengo. Participants are encouraged to bring their own ideas for projects\, which may focus on testing hypotheses\, modelling neural or cognitive data\, implementing specific behavioural functions with neurons\, expanding past models\, or provide a proof-of-concept of various neural mechanisms. Projects can be focused on software\, hardware\, or a combination of both. \nApproach: Discussions during the school will help shape projects\, develop new collaborations\, and generate new ideas for projects. Participants will have the opportunity to learn how to: \n\nuse Nengo to program neuromorphic hardware systems\, including Loihi!\nintegrate machine learning methods into biologically oriented models\ninterface Nengo with cameras and robotic systems of various kinds\nbuild perceptual\, motor\, and cognitive models with spiking neurons\nsimulate large-scale models at a variety of levels of detail concurrently\nmodel anatomical and electrophysiological data\nmodel cognitive and behavioural data with a detailed neural model\nuse a variety of single cell models within a large-scale model\nuse your favorite simulator\, e.g. NEST\, Brian\, Neuron\, etc.\nimplement modern non-linear control methods in a neural model\nand much more …\n\nFormat: The first few days of the summer school will be be devoted to in-depth tutorials on using Nengo for neural and cognitive modelling. The rest of summer school will be devoted primarily to project work\, with a variety of faculty guest lectures and optional tutorials scheduled throughout. A project demonstration and evening banquet will be held on the last day\, with a variety of prizes for strong projects! The complete schedule and list of guest lecturers will be announced at a later date.
URL:https://www.neuropac.info/event/nengo-summer-school/
LOCATION:University of Waterloo\, Waterloo\, Ontario\, Canada
CATEGORIES:Workshop
END:VEVENT
BEGIN:VEVENT
DTSTART;VALUE=DATE:20240603
DTEND;VALUE=DATE:20240607
DTSTAMP:20260422T181259
CREATED:20231011T111322Z
LAST-MODIFIED:20231011T111339Z
UID:10000248-1717372800-1717718399@www.neuropac.info
SUMMARY:International Conference on Neuromorphic Computing and Engineering
DESCRIPTION:See event website for more details: https://www.icnce-2024.de/
URL:https://www.neuropac.info/event/international-conference-on-neuromorphic-computing-and-engineering/
LOCATION:Eurogress Aachen\, Lousberg Park Area (near historical city center)\, Aachen\, Germany
CATEGORIES:Conference
END:VEVENT
END:VCALENDAR