BEGIN:VCALENDAR
VERSION:2.0
PRODID:-// - ECPv6.15.16//NONSGML v1.0//EN
CALSCALE:GREGORIAN
METHOD:PUBLISH
X-ORIGINAL-URL:https://www.neuropac.info
X-WR-CALDESC:Events for 
REFRESH-INTERVAL;VALUE=DURATION:PT1H
X-Robots-Tag:noindex
X-PUBLISHED-TTL:PT1H
BEGIN:VTIMEZONE
TZID:America/New_York
BEGIN:DAYLIGHT
TZOFFSETFROM:-0500
TZOFFSETTO:-0400
TZNAME:EDT
DTSTART:20230312T070000
END:DAYLIGHT
BEGIN:STANDARD
TZOFFSETFROM:-0400
TZOFFSETTO:-0500
TZNAME:EST
DTSTART:20231105T060000
END:STANDARD
BEGIN:DAYLIGHT
TZOFFSETFROM:-0500
TZOFFSETTO:-0400
TZNAME:EDT
DTSTART:20240310T070000
END:DAYLIGHT
BEGIN:STANDARD
TZOFFSETFROM:-0400
TZOFFSETTO:-0500
TZNAME:EST
DTSTART:20241103T060000
END:STANDARD
BEGIN:DAYLIGHT
TZOFFSETFROM:-0500
TZOFFSETTO:-0400
TZNAME:EDT
DTSTART:20250309T070000
END:DAYLIGHT
BEGIN:STANDARD
TZOFFSETFROM:-0400
TZOFFSETTO:-0500
TZNAME:EST
DTSTART:20251102T060000
END:STANDARD
END:VTIMEZONE
BEGIN:VEVENT
DTSTART;VALUE=DATE:20240630
DTEND;VALUE=DATE:20240706
DTSTAMP:20260425T120806
CREATED:20231103T142626Z
LAST-MODIFIED:20231103T142626Z
UID:10000249-1719705600-1720223999@www.neuropac.info
SUMMARY:IJCNN @ WCCI 2024
DESCRIPTION:The IEEE World Congress on Computational Intelligence\nIEEE WCCI 2024 is the world’s largest technical event on computational intelligence\, featuring the three flagship conferences of the IEEE Computational Intelligence Society (CIS) under one roof: The International Joint Conference on Neural Networks (IJCNN)\, the IEEE International Conference on Fuzzy Systems (FUZZ-IEEE) and the IEEE Congress on Evolutionary Computation (IEEE CEC). \nIEEE WCCI 2024 will be held in Yokohama\, Japan. Yokohama is a city that inspires academic fusion and multidisciplinary & industrial association. The Yokohama area boasts a number of universities\, institutes and companies of advanced information technology\, electronics\, robotics\, mobility\, medicine and foods. \nIEEE WCCI 2024 held in this area will strongly inspire the attendees to imagine next-generation science and technology as the fusion of AI\, physiology and psychology as well as a cooperation with intelligence-related industries. \n\n\n\nIJCNN 2024 \n\n\n\nThe International Joint Conference on Neural Networks (IJCNN) covers a wide range of topics in the field of neural networks\, from biological neural networks to artificial neural computation. \n\n\n\n\n\n\n\n\nIEEE CEC 2024 \n\n\n\nThe IEEE Congress on Evolutionary Computation (IEEE CEC) covers all topics in evolutionary computation from theory to real-world applications. \n\n\n\n\n\n\n\n\nFUZZ-IEEE 2024 \n\n\n\nThe IEEE International Conference on Fuzzy Systems (FUZZ-IEEE) covers all topics in fuzzy systems from theory to real-world applications.
URL:https://www.neuropac.info/event/ijcnn-wcci-2024/
LOCATION:Yokohama\, Japan\, Yokohama\, Japan
CATEGORIES:Conference
END:VEVENT
BEGIN:VEVENT
DTSTART;VALUE=DATE:20240630
DTEND;VALUE=DATE:20240721
DTSTAMP:20260425T120806
CREATED:20231120T122414Z
LAST-MODIFIED:20240603T191006Z
UID:10000268-1719705600-1721519999@www.neuropac.info
SUMMARY:Telluride Neuromorphic Cognition Engineering Workshop 2024
DESCRIPTION:The workshop is a 3-week project–based meeting organized around specific topic areas  to bring the organizing principles of neural cognition into artificial intelligence\, and to use AI to understand how brains work.  \nThe workshop is held annually for 3 weeks generally under this schedule.  Participants are selected by the topic areas. The multidisciplinary aims encourage collaboration and information flow among participants. The workshop focuses on a mixture of tutorials\, lectures on cutting edge research\, and hands-on project work (see videos of some projects here) on topics at the border of neuroscience and AI. The project teams are organized into themed topic areas to encourage collaboration between diverse experts. Like the Cold Spring Harbor and Woods Hole summer labs and the Capo Caccia Neuromorphic Workshop\, the Telluride workshop brings together major scientists and technologists with young researchers for an extended period to work together on concrete projects.  \n\n\nSee Topic areas for this year’s workshop project groups. \n\n\nSee schedule for dates and daily/weekly schedule \n\n\nSee Workshop Accomplishments about the impact of the workshop. 
URL:https://www.neuropac.info/event/telluride-neuromorphic-cognition-engineering-workshop-2024/
LOCATION:Telluride\, Telluride\, CO\, United States
CATEGORIES:Workshop
END:VEVENT
END:VCALENDAR