BEGIN:VCALENDAR
VERSION:2.0
PRODID:-// - ECPv6.15.16//NONSGML v1.0//EN
CALSCALE:GREGORIAN
METHOD:PUBLISH
X-ORIGINAL-URL:https://www.neuropac.info
X-WR-CALDESC:Events for 
REFRESH-INTERVAL;VALUE=DURATION:PT1H
X-Robots-Tag:noindex
X-PUBLISHED-TTL:PT1H
BEGIN:VTIMEZONE
TZID:America/New_York
BEGIN:DAYLIGHT
TZOFFSETFROM:-0500
TZOFFSETTO:-0400
TZNAME:EDT
DTSTART:20230312T070000
END:DAYLIGHT
BEGIN:STANDARD
TZOFFSETFROM:-0400
TZOFFSETTO:-0500
TZNAME:EST
DTSTART:20231105T060000
END:STANDARD
BEGIN:DAYLIGHT
TZOFFSETFROM:-0500
TZOFFSETTO:-0400
TZNAME:EDT
DTSTART:20240310T070000
END:DAYLIGHT
BEGIN:STANDARD
TZOFFSETFROM:-0400
TZOFFSETTO:-0500
TZNAME:EST
DTSTART:20241103T060000
END:STANDARD
BEGIN:DAYLIGHT
TZOFFSETFROM:-0500
TZOFFSETTO:-0400
TZNAME:EDT
DTSTART:20250309T070000
END:DAYLIGHT
BEGIN:STANDARD
TZOFFSETFROM:-0400
TZOFFSETTO:-0500
TZNAME:EST
DTSTART:20251102T060000
END:STANDARD
END:VTIMEZONE
BEGIN:VEVENT
DTSTART;VALUE=DATE:20241220
DTEND;VALUE=DATE:20241221
DTSTAMP:20260422T050913
CREATED:20241202T111936Z
LAST-MODIFIED:20241202T111936Z
UID:10000309-1734652800-1734739199@www.neuropac.info
SUMMARY:ONM Student Talk: Ram Gaurav @ Virginia Tech
DESCRIPTION:Ramashish Gaurav (Ram) is a 3rd year Ph.D. student at Virginia Tech\, USA. He is supervised by Prof. Yang (Cindy) Yi in her BRICC Lab\, ECE @ VT. Of late\, Ram has been working on reservoir-based spiking models for Time Series Classification (TSC). Reservoir Computing is a well-established domain for time-series processing where a reservoir of statically (and recurrently) connected neurons compute high-dimensional temporal features\, over which a linear readout layer learns the mapping to the output. \nIn his recent work [1]\, Ram designed the Legendre-SNN (LSNN)\, a simple – yet high performing SNN model (for univariate TSC) where he has used the Legendre Delay Network (LDN) [2] as a non-spiking reservoir (in fact\, the LDN in LSNN is implemented with just basic matrix-operations). In a subsequent work (currently under review)\, he extended his LSNN to DeepLSNN that accounts for multivariate time-series signals too; upon experimenting with it\, he found that DeepLSNN models outperform a popular (and complex) LSTM-Conv integrated model [3] on more than 30% of 101 TSC datasets. His latest work is on the evaluation of Legendre-SNN on the Loihi-2 chip [4] — on which this talk is focused at. \nTalk details here\, time TBA.
URL:https://www.neuropac.info/event/onm-student-talk-ram-gaurav-virginia-tech/
LOCATION:Online
CATEGORIES:Talk
END:VEVENT
END:VCALENDAR