BEGIN:VCALENDAR
VERSION:2.0
PRODID:-// - ECPv6.15.16//NONSGML v1.0//EN
CALSCALE:GREGORIAN
METHOD:PUBLISH
X-ORIGINAL-URL:https://www.neuropac.info
X-WR-CALDESC:Events for 
REFRESH-INTERVAL;VALUE=DURATION:PT1H
X-Robots-Tag:noindex
X-PUBLISHED-TTL:PT1H
BEGIN:VTIMEZONE
TZID:Europe/Paris
BEGIN:DAYLIGHT
TZOFFSETFROM:+0100
TZOFFSETTO:+0200
TZNAME:CEST
DTSTART:20250330T010000
END:DAYLIGHT
BEGIN:STANDARD
TZOFFSETFROM:+0200
TZOFFSETTO:+0100
TZNAME:CET
DTSTART:20251026T010000
END:STANDARD
BEGIN:DAYLIGHT
TZOFFSETFROM:+0100
TZOFFSETTO:+0200
TZNAME:CEST
DTSTART:20260329T010000
END:DAYLIGHT
BEGIN:STANDARD
TZOFFSETFROM:+0200
TZOFFSETTO:+0100
TZNAME:CET
DTSTART:20261025T010000
END:STANDARD
BEGIN:DAYLIGHT
TZOFFSETFROM:+0100
TZOFFSETTO:+0200
TZNAME:CEST
DTSTART:20270328T010000
END:DAYLIGHT
BEGIN:STANDARD
TZOFFSETFROM:+0200
TZOFFSETTO:+0100
TZNAME:CET
DTSTART:20271031T010000
END:STANDARD
END:VTIMEZONE
BEGIN:VEVENT
DTSTART;TZID=Europe/Paris:20260120T130000
DTEND;TZID=Europe/Paris:20260120T140000
DTSTAMP:20260423T001022
CREATED:20251221T111144Z
LAST-MODIFIED:20251221T111315Z
UID:10000403-1768914000-1768917600@www.neuropac.info
SUMMARY:Chips Think Tank Webinar-4: Energy-Efficient AI — The Coming Breakthrough in Compute Acceleration
DESCRIPTION:Short Overview:This live online webinar explores how emerging hardware architectures and energy-efficient AI approaches are reshaping the future of AI computing. The session features Matthias Lohrmann (Co-Founder & CTO of SpiNNCloud)\, who discusses the evolution of AI systems and hardware toward low-power inference and strategic opportunities in next-generation compute design. Participants will also have a live Q&A opportunity with the speakers.
URL:https://www.neuropac.info/event/chips-think-tank-webinar-4-energy-efficient-ai-the-coming-breakthrough-in-compute-acceleration/
LOCATION:Online Webinar (virtual)
CATEGORIES:Webinar
ORGANIZER;CN="aCCCess %E2%80%94 Alliance of Chips Competence Centres for Enhanced Semiconductor Services":MAILTO:contact@acccess.eu
END:VEVENT
END:VCALENDAR