BEGIN:VCALENDAR
VERSION:2.0
PRODID:-// - ECPv6.15.16//NONSGML v1.0//EN
CALSCALE:GREGORIAN
METHOD:PUBLISH
X-ORIGINAL-URL:https://www.neuropac.info
X-WR-CALDESC:Events for 
REFRESH-INTERVAL;VALUE=DURATION:PT1H
X-Robots-Tag:noindex
X-PUBLISHED-TTL:PT1H
BEGIN:VTIMEZONE
TZID:America/Halifax
BEGIN:DAYLIGHT
TZOFFSETFROM:-0400
TZOFFSETTO:-0300
TZNAME:ADT
DTSTART:20250309T060000
END:DAYLIGHT
BEGIN:STANDARD
TZOFFSETFROM:-0300
TZOFFSETTO:-0400
TZNAME:AST
DTSTART:20251102T050000
END:STANDARD
BEGIN:DAYLIGHT
TZOFFSETFROM:-0400
TZOFFSETTO:-0300
TZNAME:ADT
DTSTART:20260308T060000
END:DAYLIGHT
BEGIN:STANDARD
TZOFFSETFROM:-0300
TZOFFSETTO:-0400
TZNAME:AST
DTSTART:20261101T050000
END:STANDARD
BEGIN:DAYLIGHT
TZOFFSETFROM:-0400
TZOFFSETTO:-0300
TZNAME:ADT
DTSTART:20270314T060000
END:DAYLIGHT
BEGIN:STANDARD
TZOFFSETFROM:-0300
TZOFFSETTO:-0400
TZNAME:AST
DTSTART:20271107T050000
END:STANDARD
END:VTIMEZONE
BEGIN:VEVENT
DTSTART;VALUE=DATE:20261020
DTEND;VALUE=DATE:20261023
DTSTAMP:20260421T212725
CREATED:20260307T095020Z
LAST-MODIFIED:20260307T095020Z
UID:10000428-1792454400-1792713599@www.neuropac.info
SUMMARY:BigBrain Workshop (EBRAINS)
DESCRIPTION:Short overview:The BigBrain Workshop is an annual scientific meeting bringing together researchers working on ultra-high-resolution human brain atlases\, multimodal neuroimaging data\, and computational neuroscience tools. The event focuses on collaborative development and use of the BigBrain dataset and related technologies for high-resolution brain mapping and neuroscience discovery. \nImportant dates \nRegistration open: March 2\, 2026\nAbstract submission open: May 25\, 2026\nAbstract submission due: August 24\, 2026\nAcceptance notifications: September 7\, 2026\nRegistration deadline: September 28\, 2026\nTraining Day: October 20\, 2026\nBigBrain Workshop: October 21 and 22\, 2026
URL:https://www.neuropac.info/event/bigbrain-workshop-ebrains/
LOCATION:The Neuro. Montreal Neurological Institute-Hospital\, 3801 Rue University\, Montreal\, QC\, H3A 2B4\, Canada
CATEGORIES:Workshop
ORGANIZER;CN="Montreal Neurological Institute McGill University Montreal/ Institute of Neuroscience and Medicine (INM-1) Forschungszentrum J%C3%BClich":MAILTO:info@bigbrainproject.org
END:VEVENT
END:VCALENDAR