BEGIN:VCALENDAR
VERSION:2.0
PRODID:-// - ECPv6.15.16//NONSGML v1.0//EN
CALSCALE:GREGORIAN
METHOD:PUBLISH
X-ORIGINAL-URL:https://www.neuropac.info
X-WR-CALDESC:Events for 
REFRESH-INTERVAL;VALUE=DURATION:PT1H
X-Robots-Tag:noindex
X-PUBLISHED-TTL:PT1H
BEGIN:VTIMEZONE
TZID:UTC
BEGIN:STANDARD
TZOFFSETFROM:+0000
TZOFFSETTO:+0000
TZNAME:UTC
DTSTART:20240101T000000
END:STANDARD
END:VTIMEZONE
BEGIN:VEVENT
DTSTART;TZID=UTC:20251008T083000
DTEND;TZID=UTC:20251008T180000
DTSTAMP:20260422T051201
CREATED:20250920T195951Z
LAST-MODIFIED:20250920T200130Z
UID:10000356-1759912200-1759946400@www.neuropac.info
SUMMARY:EVENT HORIZON: An Australian Neuromorphic Workshop
DESCRIPTION:Overview: An in-person workshop on neuromorphic and event-based sensing and processing\, hosted by the International Centre for Neuromorphic Systems (ICNS) at Western Sydney University. \nThis one-day workshop will bring together researchers working across neuromorphic engineering\, event-based sensing\, and real-time processing.\nLocation: Innovation Quarter (iQ) Westmead\nWE-U.4.03 ANNE CUTLER SEMINAR ROOM\, Hawkesbury Rd\, Westmead\, NSW\, Australia. \nFormat: In-Person only | Keynote Talks | Student Posters | Demonstrations \nCost: FREE \n\nTravel Information:\n\nPublic Transport: Westmead Railway Station and Light Rail are a few minutes’ walk to the venue.\nParking: Limited casual parking available at the Westmead Hospital P2 parking station\, directly opposite the WIQ Building.
URL:https://www.neuropac.info/event/event-horizon-an-australian-neuromorphic-workshop-2/
LOCATION:Innovation Quarter (iQ) Westmead\, 160 Hawkesbury Road Westmead\, Westmead\, New South Wales (NSW)\, 2145\, Australia
CATEGORIES:Workshop
END:VEVENT
END:VCALENDAR