BEGIN:VCALENDAR
VERSION:2.0
PRODID:-// - ECPv6.15.16//NONSGML v1.0//EN
CALSCALE:GREGORIAN
METHOD:PUBLISH
X-ORIGINAL-URL:https://www.neuropac.info
X-WR-CALDESC:Events for 
REFRESH-INTERVAL;VALUE=DURATION:PT1H
X-Robots-Tag:noindex
X-PUBLISHED-TTL:PT1H
BEGIN:VTIMEZONE
TZID:America/New_York
BEGIN:DAYLIGHT
TZOFFSETFROM:-0500
TZOFFSETTO:-0400
TZNAME:EDT
DTSTART:20240310T070000
END:DAYLIGHT
BEGIN:STANDARD
TZOFFSETFROM:-0400
TZOFFSETTO:-0500
TZNAME:EST
DTSTART:20241103T060000
END:STANDARD
BEGIN:DAYLIGHT
TZOFFSETFROM:-0500
TZOFFSETTO:-0400
TZNAME:EDT
DTSTART:20250309T070000
END:DAYLIGHT
BEGIN:STANDARD
TZOFFSETFROM:-0400
TZOFFSETTO:-0500
TZNAME:EST
DTSTART:20251102T060000
END:STANDARD
BEGIN:DAYLIGHT
TZOFFSETFROM:-0500
TZOFFSETTO:-0400
TZNAME:EDT
DTSTART:20260308T070000
END:DAYLIGHT
BEGIN:STANDARD
TZOFFSETFROM:-0400
TZOFFSETTO:-0500
TZNAME:EST
DTSTART:20261101T060000
END:STANDARD
END:VTIMEZONE
BEGIN:VEVENT
DTSTART;VALUE=DATE:20250227
DTEND;VALUE=DATE:20250228
DTSTAMP:20260421T215247
CREATED:20250117T111634Z
LAST-MODIFIED:20250117T111634Z
UID:10000312-1740614400-1740700799@www.neuropac.info
SUMMARY:Atoms to Bits: The AlphaBet of Intelligence v1.0
DESCRIPTION:Welcome to the 1-day Brain-Inspired Computing Workshop\, a University of Manchester organised event dedicated to connecting the worlds of emerging materials research\, memristive device engineering\, and the development of hybrid memristive-CMOS neuromorphic computing systems. By focusing on technological applications\, we aim to spark conversations and collaborations that can help shape the next generation of intelligent computing. \nWHAT TO EXPECT\n\nInvited Talks: Hear from leading researchers and practitioners on the latest breakthroughs in spintronics\, memristive devices\, and neuromorphic chips and architectures.\nPanel Discussions: Engage with a diverse panel of experts as they examine the role of neuromorphic computing in the UK and internationally\, highlight key barriers to adoption\, and envision paths forward for academia and industry.\nNetworking & Collaboration: Connect with leading experts in neuromorphic AI hardware from universities\, spinouts\, and industrial R&D labs.\n\nDATE & TIME\n\nThu\, 27 Feb 2025 09:00 – 19:00 GMT\nTalks & panel 09:00 – 17:00 GMT\nNetworking 17:00 – 19:00 GMT\n\nPROGRAMME\n\nThe final program will be available by the 24th of January.\nPlease watch this space for updates.\n\nREGISTRATION\n\nRegistration is free\, however\, securing your place requires prior registration.\nYou can register for a place here.\nPlease note that spaces are limited\, so we strongly encourage early registration to ensure your participation.
URL:https://www.neuropac.info/event/atoms-to-bits-the-alphabet-of-intelligence-v1-0/
LOCATION:Kimpton Clocktower Hotel\, Oxford Street\, Manchester\, M60 7HA\, United Kingdom
CATEGORIES:Workshop
END:VEVENT
END:VCALENDAR