BEGIN:VCALENDAR
VERSION:2.0
PRODID:-// - ECPv6.15.16//NONSGML v1.0//EN
CALSCALE:GREGORIAN
METHOD:PUBLISH
X-ORIGINAL-URL:https://www.neuropac.info
X-WR-CALDESC:Events for 
REFRESH-INTERVAL;VALUE=DURATION:PT1H
X-Robots-Tag:noindex
X-PUBLISHED-TTL:PT1H
BEGIN:VTIMEZONE
TZID:America/New_York
BEGIN:DAYLIGHT
TZOFFSETFROM:-0500
TZOFFSETTO:-0400
TZNAME:EDT
DTSTART:20240310T070000
END:DAYLIGHT
BEGIN:STANDARD
TZOFFSETFROM:-0400
TZOFFSETTO:-0500
TZNAME:EST
DTSTART:20241103T060000
END:STANDARD
BEGIN:DAYLIGHT
TZOFFSETFROM:-0500
TZOFFSETTO:-0400
TZNAME:EDT
DTSTART:20250309T070000
END:DAYLIGHT
BEGIN:STANDARD
TZOFFSETFROM:-0400
TZOFFSETTO:-0500
TZNAME:EST
DTSTART:20251102T060000
END:STANDARD
BEGIN:DAYLIGHT
TZOFFSETFROM:-0500
TZOFFSETTO:-0400
TZNAME:EDT
DTSTART:20260308T070000
END:DAYLIGHT
BEGIN:STANDARD
TZOFFSETFROM:-0400
TZOFFSETTO:-0500
TZNAME:EST
DTSTART:20261101T060000
END:STANDARD
END:VTIMEZONE
BEGIN:VTIMEZONE
TZID:Europe/Paris
BEGIN:DAYLIGHT
TZOFFSETFROM:+0100
TZOFFSETTO:+0200
TZNAME:CEST
DTSTART:20230326T010000
END:DAYLIGHT
BEGIN:STANDARD
TZOFFSETFROM:+0200
TZOFFSETTO:+0100
TZNAME:CET
DTSTART:20231029T010000
END:STANDARD
BEGIN:DAYLIGHT
TZOFFSETFROM:+0100
TZOFFSETTO:+0200
TZNAME:CEST
DTSTART:20240331T010000
END:DAYLIGHT
BEGIN:STANDARD
TZOFFSETFROM:+0200
TZOFFSETTO:+0100
TZNAME:CET
DTSTART:20241027T010000
END:STANDARD
BEGIN:DAYLIGHT
TZOFFSETFROM:+0100
TZOFFSETTO:+0200
TZNAME:CEST
DTSTART:20250330T010000
END:DAYLIGHT
BEGIN:STANDARD
TZOFFSETFROM:+0200
TZOFFSETTO:+0100
TZNAME:CET
DTSTART:20251026T010000
END:STANDARD
END:VTIMEZONE
BEGIN:VTIMEZONE
TZID:UTC
BEGIN:STANDARD
TZOFFSETFROM:+0000
TZOFFSETTO:+0000
TZNAME:UTC
DTSTART:20220101T000000
END:STANDARD
END:VTIMEZONE
BEGIN:VEVENT
DTSTART;VALUE=DATE:20250924
DTEND;VALUE=DATE:20250927
DTSTAMP:20260422T044635
CREATED:20250627T224749Z
LAST-MODIFIED:20250627T224749Z
UID:10000344-1758672000-1758931199@www.neuropac.info
SUMMARY:Neuromorphic Symposium 2025
DESCRIPTION:We are delighted to welcome you to the Neuromorphic Symposium 2025\, co-organized by Spin-Ion Technologies and NYU Paris. This international event will bring together researchers\, engineers\, and industry experts to explore the latest developments and future directions in neuromorphic computing. The symposium will feature talks\, round-table discussions\, and poster sessions\, providing a platform to discuss innovative technologies\, algorithms\, and architectures driving the field of neuromorphic computing forward. Join us in the heart of Paris for three days of engaging discussions and networking opportunities!
URL:https://www.neuropac.info/event/neuromorphic-symposium-2025/
LOCATION:Paris\, Paris\, France
CATEGORIES:Symposium
END:VEVENT
BEGIN:VEVENT
DTSTART;VALUE=DATE:20241009
DTEND;VALUE=DATE:20241012
DTSTAMP:20260422T044635
CREATED:20240602T181619Z
LAST-MODIFIED:20240602T181619Z
UID:10000286-1728432000-1728691199@www.neuropac.info
SUMMARY:Neuromorphic Organic Devices 2024
DESCRIPTION:Please join us for Neuromorphic Organic Device 2024 workshop\, which will be held on Oct 9-11 near Paris. The official location will be announced by late April. \nThe topics of the workshop are centered around organic neuromorphic hardware including: devices\, materials\, modelling and simulations\, architectures\, and related. topics to foster potential applications and breakthroughs including: neuromorphic hardware and artificial neural networks\, sensors and biosensors\, computational neuroscience\, neural implants and prosthetics.
URL:https://www.neuropac.info/event/neuromorphic-organic-devices-2024/
LOCATION:Paris\, Paris\, France
CATEGORIES:Workshop
END:VEVENT
BEGIN:VEVENT
DTSTART;TZID=UTC:20230129T080000
DTEND;TZID=UTC:20230129T170000
DTSTAMP:20260422T044635
CREATED:20230129T160004Z
LAST-MODIFIED:20230129T160004Z
UID:10000014-1674979200-1675011600@www.neuropac.info
SUMMARY:Anatomy and function of the prefrontal cortex across species
DESCRIPTION:Understanding the human brain relies for a large part on work in animal models\, which necessitates a careful cross-species comparison. The prefrontal cortex (PFC) is particularly relevant in this regard as its function is poorly understood and potential cross-species differences remain highly debated. This workshop brings together experimental and computational scientists whose work allows a comparison of the anatomy and function of the PFC between species (in particular between humans\, monkeys and mice). \nEBRAINS is uniquely suited to provide a platform to compare anatomy\, physiology and behaviour between species\, due to its atlases\, numerous datasets\, as well as the whole brain models from different species. The interactive format of the workshop will allow speakers as well as non-speakers from largely separated fields to interact and discuss\, which is expected to create novel insights as well as lead to more coherence and clarity in the relevant terminology\, formats and important research directions in the field. \nRegister here
URL:https://www.neuropac.info/event/anatomy-and-function-of-the-prefrontal-cortex-across-species/
LOCATION:Paris\, Paris\, France
CATEGORIES:Workshop
END:VEVENT
END:VCALENDAR