BEGIN:VCALENDAR
VERSION:2.0
PRODID:-// - ECPv6.15.16//NONSGML v1.0//EN
CALSCALE:GREGORIAN
METHOD:PUBLISH
X-ORIGINAL-URL:https://www.neuropac.info
X-WR-CALDESC:Events for 
REFRESH-INTERVAL;VALUE=DURATION:PT1H
X-Robots-Tag:noindex
X-PUBLISHED-TTL:PT1H
BEGIN:VTIMEZONE
TZID:Europe/Amsterdam
BEGIN:DAYLIGHT
TZOFFSETFROM:+0100
TZOFFSETTO:+0200
TZNAME:CEST
DTSTART:20240331T010000
END:DAYLIGHT
BEGIN:STANDARD
TZOFFSETFROM:+0200
TZOFFSETTO:+0100
TZNAME:CET
DTSTART:20241027T010000
END:STANDARD
BEGIN:DAYLIGHT
TZOFFSETFROM:+0100
TZOFFSETTO:+0200
TZNAME:CEST
DTSTART:20250330T010000
END:DAYLIGHT
BEGIN:STANDARD
TZOFFSETFROM:+0200
TZOFFSETTO:+0100
TZNAME:CET
DTSTART:20251026T010000
END:STANDARD
BEGIN:DAYLIGHT
TZOFFSETFROM:+0100
TZOFFSETTO:+0200
TZNAME:CEST
DTSTART:20260329T010000
END:DAYLIGHT
BEGIN:STANDARD
TZOFFSETFROM:+0200
TZOFFSETTO:+0100
TZNAME:CET
DTSTART:20261025T010000
END:STANDARD
END:VTIMEZONE
BEGIN:VEVENT
DTSTART;VALUE=DATE:20250919
DTEND;VALUE=DATE:20250920
DTSTAMP:20260421T215058
CREATED:20250627T224625Z
LAST-MODIFIED:20250814T131317Z
UID:10000343-1758240000-1758326399@www.neuropac.info
SUMMARY:Neuromorphic Computing Netherlands (NCN2025)
DESCRIPTION:We are excited to announce Neuromorphic Computing Netherlands 2025 (NCN2025)\, a one-day symposium bringing together researchers and professionals working on the future of brain-inspired computing. \n🗓 Date: September 19\, 2025\n📍 Location: Auditorium\, TU Delft\n💶 Fee: €10\n🔗 More info & registration: https://sites.google.com/view/ncn2025 \nTheme: Understanding the Brain: The Unfinished Revolution of Neuromorphic Computing \nKeynotes will explore the foundations of brain-inspired computing\, neuromorphic system architectures\, and novel intelligent materials\, with speakers from the University of Nottingham\, Innatera Nanosystems\, and University of Twente. \nResearchers are encouraged to submit abstracts and join the conversation shaping the next wave of neuromorphic innovation in the Netherlands. \n 
URL:https://www.neuropac.info/event/neuromorphic-computing-netherlands-ncn2025/
LOCATION:TU Delft\, Prometheusplein 1\, Delft\, 2628 ZC\, Netherlands
CATEGORIES:Symposium,Workshop
END:VEVENT
END:VCALENDAR