BEGIN:VCALENDAR
VERSION:2.0
PRODID:-// - ECPv6.15.16//NONSGML v1.0//EN
CALSCALE:GREGORIAN
METHOD:PUBLISH
X-ORIGINAL-URL:https://www.neuropac.info
X-WR-CALDESC:Events for 
REFRESH-INTERVAL;VALUE=DURATION:PT1H
X-Robots-Tag:noindex
X-PUBLISHED-TTL:PT1H
BEGIN:VTIMEZONE
TZID:America/New_York
BEGIN:DAYLIGHT
TZOFFSETFROM:-0500
TZOFFSETTO:-0400
TZNAME:EDT
DTSTART:20230312T070000
END:DAYLIGHT
BEGIN:STANDARD
TZOFFSETFROM:-0400
TZOFFSETTO:-0500
TZNAME:EST
DTSTART:20231105T060000
END:STANDARD
BEGIN:DAYLIGHT
TZOFFSETFROM:-0500
TZOFFSETTO:-0400
TZNAME:EDT
DTSTART:20240310T070000
END:DAYLIGHT
BEGIN:STANDARD
TZOFFSETFROM:-0400
TZOFFSETTO:-0500
TZNAME:EST
DTSTART:20241103T060000
END:STANDARD
BEGIN:DAYLIGHT
TZOFFSETFROM:-0500
TZOFFSETTO:-0400
TZNAME:EDT
DTSTART:20250309T070000
END:DAYLIGHT
BEGIN:STANDARD
TZOFFSETFROM:-0400
TZOFFSETTO:-0500
TZNAME:EST
DTSTART:20251102T060000
END:STANDARD
END:VTIMEZONE
BEGIN:VEVENT
DTSTART;VALUE=DATE:20240616
DTEND;VALUE=DATE:20240621
DTSTAMP:20260422T210201
CREATED:20231103T151604Z
LAST-MODIFIED:20231103T151604Z
UID:10000262-1718496000-1718927999@www.neuropac.info
SUMMARY:ICAISC 2024
DESCRIPTION:The 23rd International Conference on Artificial Intelligence and Soft Computing ICAISC 2024 will be held in Zakopane (situated in the High Tatra mountains)\, Poland in June 16-20\, 2024 in Bachleda Kasprowy Zakopane Hotel. The conference will provide an excellent opportunity for scientists and engineers to present and discuss the latest scientific results and methods. The conference will include keynote addresses\, contributed papers\, and numerous lectures and tutorials on a wide range of topics. The Conference will be held in the hybrid mode: online and on-site in Zakopane. The authors of accepted papers will have a choice to present their papers on-line\, or on site in Zakopane\, Mercury Kasprowy Hotel\, Poland. All accepted papers\, irrespective of the presentation mode\, will be included in the LNAI conference proceedings.
URL:https://www.neuropac.info/event/icaisc-2024/
LOCATION:Zakopane\, Poland\, Zakopane\, Poland
CATEGORIES:Conference
END:VEVENT
END:VCALENDAR